BEGIN:VCALENDAR
VERSION:2.0
PRODID:-// - ECPv6.15.20//NONSGML v1.0//EN
CALSCALE:GREGORIAN
METHOD:PUBLISH
X-ORIGINAL-URL:https://lepoche.be
X-WR-CALDESC:Évènements pour 
REFRESH-INTERVAL;VALUE=DURATION:PT1H
X-Robots-Tag:noindex
X-PUBLISHED-TTL:PT1H
BEGIN:VTIMEZONE
TZID:Europe/Paris
BEGIN:DAYLIGHT
TZOFFSETFROM:+0100
TZOFFSETTO:+0200
TZNAME:CEST
DTSTART:20210328T010000
END:DAYLIGHT
BEGIN:STANDARD
TZOFFSETFROM:+0200
TZOFFSETTO:+0100
TZNAME:CET
DTSTART:20211031T010000
END:STANDARD
BEGIN:DAYLIGHT
TZOFFSETFROM:+0100
TZOFFSETTO:+0200
TZNAME:CEST
DTSTART:20220327T010000
END:DAYLIGHT
BEGIN:STANDARD
TZOFFSETFROM:+0200
TZOFFSETTO:+0100
TZNAME:CET
DTSTART:20221030T010000
END:STANDARD
BEGIN:DAYLIGHT
TZOFFSETFROM:+0100
TZOFFSETTO:+0200
TZNAME:CEST
DTSTART:20230326T010000
END:DAYLIGHT
BEGIN:STANDARD
TZOFFSETFROM:+0200
TZOFFSETTO:+0100
TZNAME:CET
DTSTART:20231029T010000
END:STANDARD
END:VTIMEZONE
BEGIN:VEVENT
DTSTART;TZID=Europe/Paris:20220924T200000
DTEND;TZID=Europe/Paris:20220924T200000
DTSTAMP:20260421T173343
CREATED:20220823T090816Z
LAST-MODIFIED:20220823T185726Z
UID:1784-1664049600-1664049600@lepoche.be
SUMMARY:Samedi 24 septembre - Humour : Niko Panoz : One Poumon Show
DESCRIPTION:Et si on vous disait que lors de votre naissance une bonne fée s’est penchée sur votre berceau et à prononcé les mots suivants : « Tu vas avoir une belle vie\, que du bonheur et tout te réussira! » \nAlors vous sauriez que vous n’êtes pas Niko Panoz. Lui sur son berceau c’est Madame La Poisse qui s’est penchée et lui a déclaré une guerre sans merci en lui disant : « Toi je vais te faire chier mais d’une force\, t’imagines même pas ! » \nNiko Panoz Le One-Poumon-Show\, vous allez pleurer\, vous allez rire mais vous allez surtout pleurer de rire. Laissez-vous guider vers un univers décalé ou seul l’humour et la bonne ambiance sont acceptés. \nInfos & réservations : \n✉  info@lepoche.be \n☎  0493/766.755 \nTarif: 15€ \nRéservations avec paiement à l’avance sur le compte BE11 7320 4914 9648 au nom de BUZZ RECORDS SRL (propriétaire du théâtre) avec la communication « NIKO PANOZ 24/09/2022 »
URL:https://lepoche.be/agenda/samedi-24-septembre-humour-niko-panoz-one-poumon-show/
LOCATION:Le Poche Théâtre\, Rue du Fort\, 70\, Charleroi\, Hainaut\, 6000\, Belgique
CATEGORIES:Humour
ATTACH;FMTTYPE=image/jpeg:https://lepoche.be/wp-content/uploads/2022/08/niko_750.jpg
ORGANIZER;CN="Le Poche":MAILTO:info@lepoche.be
END:VEVENT
END:VCALENDAR