BEGIN:VCALENDAR
VERSION:2.0
PRODID:-// - ECPv6.15.20//NONSGML v1.0//EN
CALSCALE:GREGORIAN
METHOD:PUBLISH
X-ORIGINAL-URL:https://lepoche.be
X-WR-CALDESC:Évènements pour 
REFRESH-INTERVAL;VALUE=DURATION:PT1H
X-Robots-Tag:noindex
X-PUBLISHED-TTL:PT1H
BEGIN:VTIMEZONE
TZID:Europe/Paris
BEGIN:DAYLIGHT
TZOFFSETFROM:+0100
TZOFFSETTO:+0200
TZNAME:CEST
DTSTART:20210328T010000
END:DAYLIGHT
BEGIN:STANDARD
TZOFFSETFROM:+0200
TZOFFSETTO:+0100
TZNAME:CET
DTSTART:20211031T010000
END:STANDARD
BEGIN:DAYLIGHT
TZOFFSETFROM:+0100
TZOFFSETTO:+0200
TZNAME:CEST
DTSTART:20220327T010000
END:DAYLIGHT
BEGIN:STANDARD
TZOFFSETFROM:+0200
TZOFFSETTO:+0100
TZNAME:CET
DTSTART:20221030T010000
END:STANDARD
BEGIN:DAYLIGHT
TZOFFSETFROM:+0100
TZOFFSETTO:+0200
TZNAME:CEST
DTSTART:20230326T010000
END:DAYLIGHT
BEGIN:STANDARD
TZOFFSETFROM:+0200
TZOFFSETTO:+0100
TZNAME:CET
DTSTART:20231029T010000
END:STANDARD
END:VTIMEZONE
BEGIN:VEVENT
DTSTART;TZID=Europe/Paris:20220925T150000
DTEND;TZID=Europe/Paris:20220925T150000
DTSTAMP:20260421T173343
CREATED:20220827T144523Z
LAST-MODIFIED:20220827T144523Z
UID:1844-1664118000-1664118000@lepoche.be
SUMMARY:Dimanche 25 septembre - Enfants : De l'autre côté
DESCRIPTION:« DE L’AUTRE CÔTÉ »\nEt si la Grande Faucheuse n’était pas si méchante que ça ?\nUn spectacle plein de tendresse\, d’humour et de poésie. \nPrunelle\, une enfant pleine de vie\, apprend que sa maman vient de mourir.\nUne succession d’émotions fortes et de questions vont l’envahir : Comment vivre sans ma maman ? Qui sera là pour me consoler ?\nPrunelle se relève. Peu à peu\, le chagrin s’en va pour laisser place au rire à la Vie tout simplement.\n« On dirait que les adultes ils ont peur de parler de la mort avec les enfants. Comme si on n’avait pas besoin d’en parler\, nous ! »\nPrunelle rencontre la grande faucheuse qui\, bizarrement\, ne fait vraiment pas trembler de peur et va même vouloir aider Prunelle et lui redonner le sourire… \nEt si la Mort n’était pas si méchante que ça ? Et si la Mort pouvait parler\, que nous dirait-elle ? Et si nous arrêtions d’avoir peur d’en parler ? Surtout avec les enfants !\nUn spectacle théâtral positif et musical pour profiter à fond de la VIE ! \nUn spectacle intergénérationnel de 8 à 88 ans ! \nTextes et chant : Olivia AUCLAIR\nMise en scène : Benoît PAUWELS \nMusiques : Piotr PALUCH et Nicholas YATES\nRegards extérieurs bienveillants : Laurent VAN DER REST et Bach-Lan LEBAHTI \n \nInfos & réservations : \n✉  info@lepoche.be \n☎  0493/766.755 \nTarifs: 12€ / -12ans: 8€ \nRéservations avec paiement à l’avance sur le compte BE11 7320 4914 9648 au nom de BUZZ RECORDS SRL (propriétaire du théâtre) avec la communication « AUTRE COTE 25/09/2022 »
URL:https://lepoche.be/agenda/dimanche-25-septembre-enfants-de-lautre-cote/
LOCATION:Le Poche Théâtre\, Rue du Fort\, 70\, Charleroi\, Hainaut\, 6000\, Belgique
CATEGORIES:Enfants
ATTACH;FMTTYPE=image/jpeg:https://lepoche.be/wp-content/uploads/2020/10/Autre_cote.jpg
ORGANIZER;CN="Le Poche":MAILTO:info@lepoche.be
END:VEVENT
END:VCALENDAR