BEGIN:VCALENDAR
VERSION:2.0
PRODID:-// - ECPv6.15.20//NONSGML v1.0//EN
CALSCALE:GREGORIAN
METHOD:PUBLISH
X-ORIGINAL-URL:https://lepoche.be
X-WR-CALDESC:Évènements pour 
REFRESH-INTERVAL;VALUE=DURATION:PT1H
X-Robots-Tag:noindex
X-PUBLISHED-TTL:PT1H
BEGIN:VTIMEZONE
TZID:Europe/Paris
BEGIN:DAYLIGHT
TZOFFSETFROM:+0100
TZOFFSETTO:+0200
TZNAME:CEST
DTSTART:20210328T010000
END:DAYLIGHT
BEGIN:STANDARD
TZOFFSETFROM:+0200
TZOFFSETTO:+0100
TZNAME:CET
DTSTART:20211031T010000
END:STANDARD
BEGIN:DAYLIGHT
TZOFFSETFROM:+0100
TZOFFSETTO:+0200
TZNAME:CEST
DTSTART:20220327T010000
END:DAYLIGHT
BEGIN:STANDARD
TZOFFSETFROM:+0200
TZOFFSETTO:+0100
TZNAME:CET
DTSTART:20221030T010000
END:STANDARD
BEGIN:DAYLIGHT
TZOFFSETFROM:+0100
TZOFFSETTO:+0200
TZNAME:CEST
DTSTART:20230326T010000
END:DAYLIGHT
BEGIN:STANDARD
TZOFFSETFROM:+0200
TZOFFSETTO:+0100
TZNAME:CET
DTSTART:20231029T010000
END:STANDARD
END:VTIMEZONE
BEGIN:VEVENT
DTSTART;TZID=Europe/Paris:20221007T203000
DTEND;TZID=Europe/Paris:20221016T160000
DTSTAMP:20260421T195312
CREATED:20220907T175714Z
LAST-MODIFIED:20221007T165313Z
UID:1919-1665174600-1665936000@lepoche.be
SUMMARY:Les 7\, 8\, 9\, 12\, 13\, 14\, 15 et 16 octobre - Théâtre : C'est pas la taille qui compte
DESCRIPTION:« C’EST PAS LA TAILLE QUI COMPTE » qu’ils disent\, ces gens-là. \nIls arrivent tout sourire sur scène. Ils sont bien gentils ces gens-là. Enfin peut-être pas. Poussés par la banalité de leur existence\, ils se lâchent ingénument. \nIls cherchent une discussion intéressante. Ou juste une discussion. Ça les pousse à se dévoiler. \nEt ils dévoilent en toute innocence\, les monstruosités qui les habitent\, qui nous habitent tous. Les scènes en deviennent surréalistes\, improbables\, cruelles. Et le cruel\, ça fait rire. Et ils en rient. \nEt le spectateur aussi\, qui peut-être se reconnaîtra un peu… \nDates: 7\, 8\, 9\, 12\, 13\, 14\, 15 et 16 octobre 2022\nHoraire: 20h30 / Dimanche: 16h00 \nInfos & réservations : \nwww.latoc.be \n✉  latoc.theatre@gmail.com \nTarifs: 13€/10€ (pré-vente) / -26ans : 10€/8€ (pré-vente) / Art.27: 1\,25€ \nLe spectacle fait également partie de l’abonnement du Poche 2022-2023.
URL:https://lepoche.be/agenda/les-7-8-9-12-13-14-15-et-16-octobre-theatre-cest-pas-la-taille-qui-compte/
LOCATION:Le Poche Théâtre\, Rue du Fort\, 70\, Charleroi\, Hainaut\, 6000\, Belgique
CATEGORIES:Théâtre
ATTACH;FMTTYPE=image/png:https://lepoche.be/wp-content/uploads/2022/09/TOC-sold_750.png
ORGANIZER;CN="La TOC":MAILTO:latoc.theatre@gmail.com
END:VEVENT
END:VCALENDAR