BEGIN:VCALENDAR
VERSION:2.0
PRODID:-// - ECPv6.15.20//NONSGML v1.0//EN
CALSCALE:GREGORIAN
METHOD:PUBLISH
X-ORIGINAL-URL:https://lepoche.be
X-WR-CALDESC:Évènements pour 
REFRESH-INTERVAL;VALUE=DURATION:PT1H
X-Robots-Tag:noindex
X-PUBLISHED-TTL:PT1H
BEGIN:VTIMEZONE
TZID:Europe/Paris
BEGIN:DAYLIGHT
TZOFFSETFROM:+0100
TZOFFSETTO:+0200
TZNAME:CEST
DTSTART:20210328T010000
END:DAYLIGHT
BEGIN:STANDARD
TZOFFSETFROM:+0200
TZOFFSETTO:+0100
TZNAME:CET
DTSTART:20211031T010000
END:STANDARD
BEGIN:DAYLIGHT
TZOFFSETFROM:+0100
TZOFFSETTO:+0200
TZNAME:CEST
DTSTART:20220327T010000
END:DAYLIGHT
BEGIN:STANDARD
TZOFFSETFROM:+0200
TZOFFSETTO:+0100
TZNAME:CET
DTSTART:20221030T010000
END:STANDARD
BEGIN:DAYLIGHT
TZOFFSETFROM:+0100
TZOFFSETTO:+0200
TZNAME:CEST
DTSTART:20230326T010000
END:DAYLIGHT
BEGIN:STANDARD
TZOFFSETFROM:+0200
TZOFFSETTO:+0100
TZNAME:CET
DTSTART:20231029T010000
END:STANDARD
END:VTIMEZONE
BEGIN:VEVENT
DTSTART;TZID=Europe/Paris:20221124T200000
DTEND;TZID=Europe/Paris:20221124T200000
DTSTAMP:20260421T213450
CREATED:20221031T192554Z
LAST-MODIFIED:20221120T213900Z
UID:1967-1669320000-1669320000@lepoche.be
SUMMARY:Jeudi 24 novembre - Théâtre : Molière se rebelle
DESCRIPTION:Le jour de l’inauguration du château de Versailles\, Louis XIV\, entouré de ses artistes préférés\, le musicien Lully\, Pierre Corneille\, Jean Racine\, Madame de la Fayette\, Blaise Pascal\, de la Fontaine\, de la Bruyère\, invite la Cour à accueillir Molière\, ce dernier lui ayant demandé audience pour réciter quelques vers. \nPour faire honneur au grand Racine\, Molière choisit de présenter un extrait de Phèdre. Ses comédiennes sont arrêtées dans leur élan par le Roi Soleil qui ne peut endurer plus longtemps leur prestation\, trop naturelle\, trop peu passionnée et douloureuse. \nSur l’invitation de Molière\, Louis\, grand amateur d’art\, se prête lui-même à l’exercice pour montrer l’exemple. \nAvant de prendre congé\, Molière demande la permission de faire entendre quelques vers de sa composition. Permission accordée\, sa troupe présente alors son nouveau spectacle… \nLe spectacle est un assemblage de textes\, en prose et en alexandrin\, tirés de différentes œuvres de Molière\, qui s’imbriquent les uns aux autres\, telles les pièces d’un puzzle\, et fusionnent grâce à la plume de Sarah Hennecart\, auteure du spectacle\, afin de raconter les péripéties de personnages typiquement moliériens. \nCette création originale est portée par la Compagnie du ClairObscur\, avec le soutien du Poche Théâtre\, de la Ville de Charleroi et de la Fédération Wallonie-Bruxelles\, et elle trouve son origine au sein d’un projet pédagogique plus large nommé ART-Sème. \nInfos & réservations : \n✉  info@clairobscurtheatre.be \n☎  0494/40.34.34 \nTarif: 15€  /  Moins de 26 ans : 10€ \nhttps://www.clairobscurtheatre.be
URL:https://lepoche.be/agenda/jeudi-24-novembre-theatre-moliere-se-rebelle/
LOCATION:Le Poche Théâtre\, Rue du Fort\, 70\, Charleroi\, Hainaut\, 6000\, Belgique
CATEGORIES:Théâtre
ATTACH;FMTTYPE=image/png:https://lepoche.be/wp-content/uploads/2022/10/MOLIERE24SOLD_750.png
ORGANIZER;CN="La compagnie du ClairObscur":MAILTO:info@clairobscurtheatre.be
END:VEVENT
END:VCALENDAR