BEGIN:VCALENDAR
VERSION:2.0
PRODID:-// - ECPv6.15.20//NONSGML v1.0//EN
CALSCALE:GREGORIAN
METHOD:PUBLISH
X-ORIGINAL-URL:https://lepoche.be
X-WR-CALDESC:Évènements pour 
REFRESH-INTERVAL;VALUE=DURATION:PT1H
X-Robots-Tag:noindex
X-PUBLISHED-TTL:PT1H
BEGIN:VTIMEZONE
TZID:Europe/Paris
BEGIN:DAYLIGHT
TZOFFSETFROM:+0100
TZOFFSETTO:+0200
TZNAME:CEST
DTSTART:20220327T010000
END:DAYLIGHT
BEGIN:STANDARD
TZOFFSETFROM:+0200
TZOFFSETTO:+0100
TZNAME:CET
DTSTART:20221030T010000
END:STANDARD
BEGIN:DAYLIGHT
TZOFFSETFROM:+0100
TZOFFSETTO:+0200
TZNAME:CEST
DTSTART:20230326T010000
END:DAYLIGHT
BEGIN:STANDARD
TZOFFSETFROM:+0200
TZOFFSETTO:+0100
TZNAME:CET
DTSTART:20231029T010000
END:STANDARD
BEGIN:DAYLIGHT
TZOFFSETFROM:+0100
TZOFFSETTO:+0200
TZNAME:CEST
DTSTART:20240331T010000
END:DAYLIGHT
BEGIN:STANDARD
TZOFFSETFROM:+0200
TZOFFSETTO:+0100
TZNAME:CET
DTSTART:20241027T010000
END:STANDARD
END:VTIMEZONE
BEGIN:VEVENT
DTSTART;TZID=Europe/Paris:20230113T200000
DTEND;TZID=Europe/Paris:20230115T150000
DTSTAMP:20260422T005008
CREATED:20221112T103929Z
LAST-MODIFIED:20230114T155118Z
UID:2022-1673640000-1673794800@lepoche.be
SUMMARY:Du 13 au 15 janvier - Théâtre : En Avant !
DESCRIPTION:Un clown. Un sac. Une imprimerie. Une urgence. Un clown. Une sensibilité. \nDes mots\, des paroles et des gestes. \nUne dose d’histoire\, de NOTRE histoire. \nDes récits de guerre\, des récits de résistants\, des récits du peuple. \nTout est là pour vous faire voyager au cœur de notre humanité\, au cœur des fondements de notre démocratie. \nDates: 13\, 14 et 15 janvier 2023\nHoraire: V-S: 20h / D: 15h \nInfos & réservations : \n✉  info@lepoche.be \n☎  0493/766.755 \nNormal : 15€ / – 26 ans & artistes : 10€ \nRéservations avec paiement à l’avance sur le compte BE11 7320 4914 9648 au nom de BUZZ RECORDS SRL (propriétaire du théâtre) avec la communication « EN AVANT + DATE SOUHAITEE »
URL:https://lepoche.be/agenda/du-13-au-15-janvier-theatre-en-avant/
LOCATION:Le Poche Théâtre\, Rue du Fort\, 70\, Charleroi\, Hainaut\, 6000\, Belgique
CATEGORIES:Théâtre
ATTACH;FMTTYPE=image/jpeg:https://lepoche.be/wp-content/uploads/2022/11/en-avant-bis_750.jpg
ORGANIZER;CN="Le Poche":MAILTO:info@lepoche.be
END:VEVENT
END:VCALENDAR