BEGIN:VCALENDAR
VERSION:2.0
PRODID:-// - ECPv6.15.20//NONSGML v1.0//EN
CALSCALE:GREGORIAN
METHOD:PUBLISH
X-ORIGINAL-URL:https://lepoche.be
X-WR-CALDESC:Évènements pour 
REFRESH-INTERVAL;VALUE=DURATION:PT1H
X-Robots-Tag:noindex
X-PUBLISHED-TTL:PT1H
BEGIN:VTIMEZONE
TZID:Europe/Paris
BEGIN:DAYLIGHT
TZOFFSETFROM:+0100
TZOFFSETTO:+0200
TZNAME:CEST
DTSTART:20230326T010000
END:DAYLIGHT
BEGIN:STANDARD
TZOFFSETFROM:+0200
TZOFFSETTO:+0100
TZNAME:CET
DTSTART:20231029T010000
END:STANDARD
BEGIN:DAYLIGHT
TZOFFSETFROM:+0100
TZOFFSETTO:+0200
TZNAME:CEST
DTSTART:20240331T010000
END:DAYLIGHT
BEGIN:STANDARD
TZOFFSETFROM:+0200
TZOFFSETTO:+0100
TZNAME:CET
DTSTART:20241027T010000
END:STANDARD
BEGIN:DAYLIGHT
TZOFFSETFROM:+0100
TZOFFSETTO:+0200
TZNAME:CEST
DTSTART:20250330T010000
END:DAYLIGHT
BEGIN:STANDARD
TZOFFSETFROM:+0200
TZOFFSETTO:+0100
TZNAME:CET
DTSTART:20251026T010000
END:STANDARD
END:VTIMEZONE
BEGIN:VEVENT
DTSTART;TZID=Europe/Paris:20240910T200000
DTEND;TZID=Europe/Paris:20240910T200000
DTSTAMP:20260424T215745
CREATED:20240723T162236Z
LAST-MODIFIED:20240730T191407Z
UID:3036-1725998400-1725998400@lepoche.be
SUMMARY:Mardi 10 septembre - Humour : James Deano en rôdage
DESCRIPTION:Après presque 10 années de bons et loyaux services en tant qu’envoyé très spécial pour l’émission d’humour de la RTBF : Le Grand Cactus\, le chanteur et humoriste James Deano nous revient enfin sur les planches pour un spectacle mêlant sketchs et chansons. \nCe spectacle est « en rodage »\, c’est à dire que James va faire des blagues\, on ne sait pas encore si elles sont drôles\, mais si elles ne le sont pas elles vont le devenir ou disparaître à tout jamais… \nTarif : 16€ \nAchetez vos billets en ligne : Mardi 10 septembre 2024 à 20h
URL:https://lepoche.be/agenda/mardi-10-septembre-humour-james-deano-en-rodage/
LOCATION:Le Poche Théâtre\, Rue du Fort\, 70\, Charleroi\, Hainaut\, 6000\, Belgique
CATEGORIES:Humour
ATTACH;FMTTYPE=image/png:https://lepoche.be/wp-content/uploads/2024/07/deano-poche_750.png
END:VEVENT
END:VCALENDAR