BEGIN:VCALENDAR
VERSION:2.0
PRODID:-// - ECPv6.15.20//NONSGML v1.0//EN
CALSCALE:GREGORIAN
METHOD:PUBLISH
X-ORIGINAL-URL:https://lepoche.be
X-WR-CALDESC:Évènements pour 
REFRESH-INTERVAL;VALUE=DURATION:PT1H
X-Robots-Tag:noindex
X-PUBLISHED-TTL:PT1H
BEGIN:VTIMEZONE
TZID:Europe/Paris
BEGIN:DAYLIGHT
TZOFFSETFROM:+0100
TZOFFSETTO:+0200
TZNAME:CEST
DTSTART:20230326T010000
END:DAYLIGHT
BEGIN:STANDARD
TZOFFSETFROM:+0200
TZOFFSETTO:+0100
TZNAME:CET
DTSTART:20231029T010000
END:STANDARD
BEGIN:DAYLIGHT
TZOFFSETFROM:+0100
TZOFFSETTO:+0200
TZNAME:CEST
DTSTART:20240331T010000
END:DAYLIGHT
BEGIN:STANDARD
TZOFFSETFROM:+0200
TZOFFSETTO:+0100
TZNAME:CET
DTSTART:20241027T010000
END:STANDARD
BEGIN:DAYLIGHT
TZOFFSETFROM:+0100
TZOFFSETTO:+0200
TZNAME:CEST
DTSTART:20250330T010000
END:DAYLIGHT
BEGIN:STANDARD
TZOFFSETFROM:+0200
TZOFFSETTO:+0100
TZNAME:CET
DTSTART:20251026T010000
END:STANDARD
END:VTIMEZONE
BEGIN:VEVENT
DTSTART;TZID=Europe/Paris:20241004T200000
DTEND;TZID=Europe/Paris:20241012T200000
DTSTAMP:20260424T201733
CREATED:20240708T091550Z
LAST-MODIFIED:20240912T110242Z
UID:2944-1728072000-1728763200@lepoche.be
SUMMARY:Les 4\, 5\, 6\, 10\, 11 et 12 octobre - Théâtre : Qui a peur de Virginia Woolf ?
DESCRIPTION:Deux heures du matin. George et Martha rentrent d’une soirée bien arrosée. \nIls ont proposé à Honey et Nick\, un couple qu’ils viennent de rencontrer\, de prendre un dernier verre chez eux. \nMais lorsque leurs invités arrivent\, Martha et George sont en plein règlement de comptes. \nLa nuit ne fait que commencer pour Nick et Honey qui se retrouvent pris à partie dans un jeu psychologique dont ils ne connaissent pas les règles… et qui va leur faire passer un moment dont ils se souviendront ! \nMise en scène : Annick Poulain \nDistribution : Guy Robert\, Tina Marzola\, Audrey Vaccin et Fabrice Jack \nInfos & réservations : \n✉  info@clairobscurtheatre.be \n☎  0494/40.34.34 \nTarifs : 17€/15€ (prévente) / Moins de 26 ans : 12€/10€ (prévente) \nhttps://www.clairobscurtheatre.be/billetterie \nLe spectacle fait également partie de l’abonnement du Poche 2024-2025.
URL:https://lepoche.be/agenda/les-4-5-6-10-11-12-octobre-theatre-qui-a-peur-de-virginia-woolf/
LOCATION:Le Poche Théâtre\, Rue du Fort\, 70\, Charleroi\, Hainaut\, 6000\, Belgique
CATEGORIES:Théâtre
ATTACH;FMTTYPE=image/png:https://lepoche.be/wp-content/uploads/2024/07/Woolf-affiche-2_750.png
ORGANIZER;CN="La compagnie du ClairObscur":MAILTO:info@clairobscurtheatre.be
END:VEVENT
END:VCALENDAR