BEGIN:VCALENDAR
VERSION:2.0
PRODID:-// - ECPv6.15.20//NONSGML v1.0//EN
CALSCALE:GREGORIAN
METHOD:PUBLISH
X-ORIGINAL-URL:https://lepoche.be
X-WR-CALDESC:Évènements pour 
REFRESH-INTERVAL;VALUE=DURATION:PT1H
X-Robots-Tag:noindex
X-PUBLISHED-TTL:PT1H
BEGIN:VTIMEZONE
TZID:Europe/Paris
BEGIN:DAYLIGHT
TZOFFSETFROM:+0100
TZOFFSETTO:+0200
TZNAME:CEST
DTSTART:20240331T010000
END:DAYLIGHT
BEGIN:STANDARD
TZOFFSETFROM:+0200
TZOFFSETTO:+0100
TZNAME:CET
DTSTART:20241027T010000
END:STANDARD
BEGIN:DAYLIGHT
TZOFFSETFROM:+0100
TZOFFSETTO:+0200
TZNAME:CEST
DTSTART:20250330T010000
END:DAYLIGHT
BEGIN:STANDARD
TZOFFSETFROM:+0200
TZOFFSETTO:+0100
TZNAME:CET
DTSTART:20251026T010000
END:STANDARD
BEGIN:DAYLIGHT
TZOFFSETFROM:+0100
TZOFFSETTO:+0200
TZNAME:CEST
DTSTART:20260329T010000
END:DAYLIGHT
BEGIN:STANDARD
TZOFFSETFROM:+0200
TZOFFSETTO:+0100
TZNAME:CET
DTSTART:20261025T010000
END:STANDARD
END:VTIMEZONE
BEGIN:VEVENT
DTSTART;TZID=Europe/Paris:20250125T200000
DTEND;TZID=Europe/Paris:20250125T200000
DTSTAMP:20260424T151536
CREATED:20241009T121248Z
LAST-MODIFIED:20250122T134731Z
UID:3289-1737835200-1737835200@lepoche.be
SUMMARY:Samedi 25 janvier - Théâtre : Silence... on revient !
DESCRIPTION:La troupe des ateliers théâtre Coeur en Scène est de retour avec son tout nouveau spectacle de sketches humoristiques qui feront exploser vos zygomatiques. \nTous les thèmes seront abordés : voyage\, médical\, divorce\, feuilleton\, colocation\, internet\, enseignement\, hygiène\, confidences\, cauchemar… \nAlors foncez\, ne tardez pas et réservez cette soirée de folie dont vous vous souviendrez longtemps ! \n \nBuzz Radio · Interview : Silence… on revient ! (14/01/25)\n \nTarif: 12€ \nAchetez vos billets en ligne :\nVente de billets en ligne
URL:https://lepoche.be/agenda/samedi-25-janvier-theatre-silence-on-revient/
LOCATION:Le Poche Théâtre\, Rue du Fort\, 70\, Charleroi\, Hainaut\, 6000\, Belgique
CATEGORIES:Théâtre
ATTACH;FMTTYPE=image/png:https://lepoche.be/wp-content/uploads/2024/10/silence_750.png
ORGANIZER;CN="Coeur en sc%C3%A8ne ASBL":MAILTO:coeurenscenecch@gmail.com
END:VEVENT
END:VCALENDAR