BEGIN:VCALENDAR
VERSION:2.0
PRODID:-// - ECPv6.15.20//NONSGML v1.0//EN
CALSCALE:GREGORIAN
METHOD:PUBLISH
X-ORIGINAL-URL:https://lepoche.be
X-WR-CALDESC:Évènements pour 
REFRESH-INTERVAL;VALUE=DURATION:PT1H
X-Robots-Tag:noindex
X-PUBLISHED-TTL:PT1H
BEGIN:VTIMEZONE
TZID:Europe/Paris
BEGIN:DAYLIGHT
TZOFFSETFROM:+0100
TZOFFSETTO:+0200
TZNAME:CEST
DTSTART:20240331T010000
END:DAYLIGHT
BEGIN:STANDARD
TZOFFSETFROM:+0200
TZOFFSETTO:+0100
TZNAME:CET
DTSTART:20241027T010000
END:STANDARD
BEGIN:DAYLIGHT
TZOFFSETFROM:+0100
TZOFFSETTO:+0200
TZNAME:CEST
DTSTART:20250330T010000
END:DAYLIGHT
BEGIN:STANDARD
TZOFFSETFROM:+0200
TZOFFSETTO:+0100
TZNAME:CET
DTSTART:20251026T010000
END:STANDARD
BEGIN:DAYLIGHT
TZOFFSETFROM:+0100
TZOFFSETTO:+0200
TZNAME:CEST
DTSTART:20260329T010000
END:DAYLIGHT
BEGIN:STANDARD
TZOFFSETFROM:+0200
TZOFFSETTO:+0100
TZNAME:CET
DTSTART:20261025T010000
END:STANDARD
END:VTIMEZONE
BEGIN:VEVENT
DTSTART;TZID=Europe/Paris:20250502T203000
DTEND;TZID=Europe/Paris:20250510T203000
DTSTAMP:20260422T084948
CREATED:20240708T151937Z
LAST-MODIFIED:20250226T094812Z
UID:2986-1746217800-1746909000@lepoche.be
SUMMARY:Les 2\, 3\, 4\, 8\, 9 et 10 mai - Théâtre : Don Quichotte
DESCRIPTION:La tête farcie de romans de chevalerie\, un vieil hidalgo de Castille se fait chevalier errant et part sur les chemins\, \nDon Quichotte\, c’est une fresque d’héroïsme\, de passion et d’amour ! Se battre contre des moulins à vent\, peut-être\, mais avec panache ! \nMis en scène par Emmanuel Guillaume\, déjà metteur en scène de Cyrano de Bergerac pour Comedia 77\, avec pas moins de 18 comédiens\, ce spectacle vous offrira surprises\, rire et émotions. \nDates: 2\, 3\, 4\, 8\, 9 et 10 mai 2025\nHoraire: J: 19h30 / V-S: 20h30 / D: 15h00 \nInfos & réservations : \n✉  info@comedia-77.be \n☎  0491/280.220 \nTarifs: 14€/12€ (prévente) / -26ans et +65ans: 12€/10€ (prévente) / -12ans: gratuit \nCompte: BE20 6116 4254 6056 \nLe tarif prévente est d’application uniquement lorsque l’argent de la réservation est versé sur le compte avant la représentation.\nEn cas de salle complète\, 5 minutes avant le début du spectacle\, nous nous réservons le droit de redistribuer votre réservation si vous ne vous êtes pas encore présenté à la billetterie.
URL:https://lepoche.be/agenda/les-2-3-4-8-9-et-10-mai-theatre-don-quichotte/
LOCATION:Le Poche Théâtre\, Rue du Fort\, 70\, Charleroi\, Hainaut\, 6000\, Belgique
CATEGORIES:Théâtre
ATTACH;FMTTYPE=image/jpeg:https://lepoche.be/wp-content/uploads/2024/07/Don-Quichotte_750.jpg
ORGANIZER;CN="Com%C3%A9dia 77":MAILTO:info@comedia-77.be
END:VEVENT
END:VCALENDAR