BEGIN:VCALENDAR
VERSION:2.0
PRODID:-// - ECPv6.15.20//NONSGML v1.0//EN
CALSCALE:GREGORIAN
METHOD:PUBLISH
X-ORIGINAL-URL:https://lepoche.be
X-WR-CALDESC:Évènements pour 
REFRESH-INTERVAL;VALUE=DURATION:PT1H
X-Robots-Tag:noindex
X-PUBLISHED-TTL:PT1H
BEGIN:VTIMEZONE
TZID:Europe/Paris
BEGIN:DAYLIGHT
TZOFFSETFROM:+0100
TZOFFSETTO:+0200
TZNAME:CEST
DTSTART:20240331T010000
END:DAYLIGHT
BEGIN:STANDARD
TZOFFSETFROM:+0200
TZOFFSETTO:+0100
TZNAME:CET
DTSTART:20241027T010000
END:STANDARD
BEGIN:DAYLIGHT
TZOFFSETFROM:+0100
TZOFFSETTO:+0200
TZNAME:CEST
DTSTART:20250330T010000
END:DAYLIGHT
BEGIN:STANDARD
TZOFFSETFROM:+0200
TZOFFSETTO:+0100
TZNAME:CET
DTSTART:20251026T010000
END:STANDARD
BEGIN:DAYLIGHT
TZOFFSETFROM:+0100
TZOFFSETTO:+0200
TZNAME:CEST
DTSTART:20260329T010000
END:DAYLIGHT
BEGIN:STANDARD
TZOFFSETFROM:+0200
TZOFFSETTO:+0100
TZNAME:CET
DTSTART:20261025T010000
END:STANDARD
END:VTIMEZONE
BEGIN:VEVENT
DTSTART;TZID=Europe/Paris:20250621T200000
DTEND;TZID=Europe/Paris:20250621T200000
DTSTAMP:20260422T071651
CREATED:20250501T192714Z
LAST-MODIFIED:20250506T165556Z
UID:3539-1750536000-1750536000@lepoche.be
SUMMARY:Samedi 21 juin - Théâtre : Histoires à lire debout
DESCRIPTION:La nuit\, dans le silence de la bibliothèque\, Magnus (l’encyclopédie)\, Philo\, Roman\, Flore (le recueil de poésies) et Sans-Nom\, le livre raté qui mélange ses pages\, forment une joyeuse bande dans le meilleur des mondes. \nHélas\, une ombre menaçante s’étale sur ces rayonnages heureux : celle du Grand Autocrate et ses acolytes qui décident de partir en guerre contre le livre et la lecture. Mais d’Artagnan\, Buffalo Bill\, Molière\, Naruto et le Petit Poucet ne l’entendent pas de cette oreille ! \nAvec bien d’autres héros encore tout droit sortis des pages des chefs-d’œuvre les plus célèbres\, ils s’unissent pour défendre la liberté d’écrire\, de lire et de penser… \nC’est une page qui se tourne et pour bien appuyer le fait que le livre ne fait que commencer\, les ‘Scène qui peut’ se réjouissent de vous présenter leur nouveau projet « Histoires à lire debout » de Jean-Paul Alègre\, mis en scène par Evelyne Thomas. \nC’est à nouveau une magnifique aventure qui commence à travers ce vivant plaidoyer pour le livre et la lecture ! \nAchetez vos billets en ligne :\nVente de billets en ligne
URL:https://lepoche.be/agenda/samedi-21-juin-theatre-histoires-a-lire-debout/
LOCATION:Le Poche Théâtre\, Rue du Fort\, 70\, Charleroi\, Hainaut\, 6000\, Belgique
CATEGORIES:Théâtre
ATTACH;FMTTYPE=image/png:https://lepoche.be/wp-content/uploads/2025/05/histoires_2_750.png
ORGANIZER;CN="Le Poche":MAILTO:info@lepoche.be
END:VEVENT
END:VCALENDAR