BEGIN:VCALENDAR
VERSION:2.0
PRODID:-// - ECPv6.15.20//NONSGML v1.0//EN
CALSCALE:GREGORIAN
METHOD:PUBLISH
X-ORIGINAL-URL:https://lepoche.be
X-WR-CALDESC:Évènements pour 
REFRESH-INTERVAL;VALUE=DURATION:PT1H
X-Robots-Tag:noindex
X-PUBLISHED-TTL:PT1H
BEGIN:VTIMEZONE
TZID:Europe/Paris
BEGIN:DAYLIGHT
TZOFFSETFROM:+0100
TZOFFSETTO:+0200
TZNAME:CEST
DTSTART:20240331T010000
END:DAYLIGHT
BEGIN:STANDARD
TZOFFSETFROM:+0200
TZOFFSETTO:+0100
TZNAME:CET
DTSTART:20241027T010000
END:STANDARD
BEGIN:DAYLIGHT
TZOFFSETFROM:+0100
TZOFFSETTO:+0200
TZNAME:CEST
DTSTART:20250330T010000
END:DAYLIGHT
BEGIN:STANDARD
TZOFFSETFROM:+0200
TZOFFSETTO:+0100
TZNAME:CET
DTSTART:20251026T010000
END:STANDARD
BEGIN:DAYLIGHT
TZOFFSETFROM:+0100
TZOFFSETTO:+0200
TZNAME:CEST
DTSTART:20260329T010000
END:DAYLIGHT
BEGIN:STANDARD
TZOFFSETFROM:+0200
TZOFFSETTO:+0100
TZNAME:CET
DTSTART:20261025T010000
END:STANDARD
END:VTIMEZONE
BEGIN:VEVENT
DTSTART;TZID=Europe/Paris:20250628T193000
DTEND;TZID=Europe/Paris:20250628T193000
DTSTAMP:20260422T070630
CREATED:20250612T190026Z
LAST-MODIFIED:20250612T190456Z
UID:3573-1751139000-1751139000@lepoche.be
SUMMARY:Samedi 28 juin - Théâtre : Train-train quotidien
DESCRIPTION:Une comédie légère\, teintée d’amertume\, évoquant le quotidien\, le « train-train » de vies qui se croisent\, s’entremêlent\, s’aiment\, s’ignorent ou se détestent. \nDes situations loufoques\, des personnages extravagants\, des rencontres inopinées qui nous font voyager à travers plusieurs histoires plus rocambolesques les unes que les autres. \nSeul lieu de rendez-vous : La gare… \nSpectacle présenté par la troupe des 4’lamités : \n4 femmes atypiques\, 4 caractères authentiques à l’humour volcanique\, mais 4 amitiés véridiques et partenaires fantastiques. \nÉlèves sortantes de l’Académie de Montignies-sur-Sambre\, elles sont passionnées par le théâtre et le jeu. Elles ont très vite développé une complicité entre elles\, et éprouvé le besoin de continuer le travail ensemble. Leur envie et leur complicité se ressentent sur scène. \nLes mots d’ordre : Assiduité\, Authenticité et Folie. \nN’est-ce pas dans la folie qu’on révèle notre humanité profonde? \nEcriture & Mise en scène: Morgane Gérôme. \nAvec : Alexandra Blondiaux\, Samia Hilmi\, Raphaëlle Schifone et Farah Di Giugno. \nSpectacle réalisé avec la collaboration de l’Académie de Montignies-sur-Sambre et la Ville de Charleroi. \nInfos & réservations : \n☎  0476/40.78.54 \nTarifs: \nNormal : 10€ /  Etudiant : 8€
URL:https://lepoche.be/agenda/samedi-28-juin-theatre-train-train-quotidien/
LOCATION:Le Poche Théâtre\, Rue du Fort\, 70\, Charleroi\, Hainaut\, 6000\, Belgique
CATEGORIES:Théâtre
ATTACH;FMTTYPE=image/jpeg:https://lepoche.be/wp-content/uploads/2025/06/Train_750.jpg
END:VEVENT
END:VCALENDAR