BEGIN:VCALENDAR
VERSION:2.0
PRODID:-// - ECPv6.15.20//NONSGML v1.0//EN
CALSCALE:GREGORIAN
METHOD:PUBLISH
X-ORIGINAL-URL:https://lepoche.be
X-WR-CALDESC:Évènements pour 
REFRESH-INTERVAL;VALUE=DURATION:PT1H
X-Robots-Tag:noindex
X-PUBLISHED-TTL:PT1H
BEGIN:VTIMEZONE
TZID:Europe/Paris
BEGIN:DAYLIGHT
TZOFFSETFROM:+0100
TZOFFSETTO:+0200
TZNAME:CEST
DTSTART:20240331T010000
END:DAYLIGHT
BEGIN:STANDARD
TZOFFSETFROM:+0200
TZOFFSETTO:+0100
TZNAME:CET
DTSTART:20241027T010000
END:STANDARD
BEGIN:DAYLIGHT
TZOFFSETFROM:+0100
TZOFFSETTO:+0200
TZNAME:CEST
DTSTART:20250330T010000
END:DAYLIGHT
BEGIN:STANDARD
TZOFFSETFROM:+0200
TZOFFSETTO:+0100
TZNAME:CET
DTSTART:20251026T010000
END:STANDARD
BEGIN:DAYLIGHT
TZOFFSETFROM:+0100
TZOFFSETTO:+0200
TZNAME:CEST
DTSTART:20260329T010000
END:DAYLIGHT
BEGIN:STANDARD
TZOFFSETFROM:+0200
TZOFFSETTO:+0100
TZNAME:CET
DTSTART:20261025T010000
END:STANDARD
END:VTIMEZONE
BEGIN:VEVENT
DTSTART;TZID=Europe/Paris:20250906T200000
DTEND;TZID=Europe/Paris:20250906T200000
DTSTAMP:20260422T015414
CREATED:20250822T100128Z
LAST-MODIFIED:20250822T100658Z
UID:3728-1757188800-1757188800@lepoche.be
SUMMARY:Samedi 6 septembre - Soirée d'ouverture de saison
DESCRIPTION:Un rendez-vous convivial et croustillant\, minutieusement concocté par la C Compagnie et surtout ouvert à toutes & tous\, que vous soyez spectateur·rice ou habitué·e à arpenter les planches ! \nBref\, une soirée prétexte qui sera l’occasion de se retrouver après deux mois de pause en partageant un verre dans la bonne humeur ! \nUne opportunité originale de lancer ensemble une saison pleine de promesses dans ce lieu dédié à la création artistique que nous aimons tant ! \nTarif : 5€ (1 boisson offerte) \nAchetez vos billets en ligne :\nVente de billets en ligne
URL:https://lepoche.be/agenda/samedi-6-septembre-soiree-douverture-de-saison/
LOCATION:Le Poche Théâtre\, Rue du Fort\, 70\, Charleroi\, Hainaut\, 6000\, Belgique
CATEGORIES:Cabaret,Magie,Théâtre
ATTACH;FMTTYPE=image/png:https://lepoche.be/wp-content/uploads/2025/08/saison_750.png
ORGANIZER;CN="Le Poche":MAILTO:info@lepoche.be
END:VEVENT
END:VCALENDAR