BEGIN:VCALENDAR
VERSION:2.0
PRODID:-// - ECPv6.15.20//NONSGML v1.0//EN
CALSCALE:GREGORIAN
METHOD:PUBLISH
X-ORIGINAL-URL:https://lepoche.be
X-WR-CALDESC:Évènements pour 
REFRESH-INTERVAL;VALUE=DURATION:PT1H
X-Robots-Tag:noindex
X-PUBLISHED-TTL:PT1H
BEGIN:VTIMEZONE
TZID:Europe/Paris
BEGIN:DAYLIGHT
TZOFFSETFROM:+0100
TZOFFSETTO:+0200
TZNAME:CEST
DTSTART:20240331T010000
END:DAYLIGHT
BEGIN:STANDARD
TZOFFSETFROM:+0200
TZOFFSETTO:+0100
TZNAME:CET
DTSTART:20241027T010000
END:STANDARD
BEGIN:DAYLIGHT
TZOFFSETFROM:+0100
TZOFFSETTO:+0200
TZNAME:CEST
DTSTART:20250330T010000
END:DAYLIGHT
BEGIN:STANDARD
TZOFFSETFROM:+0200
TZOFFSETTO:+0100
TZNAME:CET
DTSTART:20251026T010000
END:STANDARD
BEGIN:DAYLIGHT
TZOFFSETFROM:+0100
TZOFFSETTO:+0200
TZNAME:CEST
DTSTART:20260329T010000
END:DAYLIGHT
BEGIN:STANDARD
TZOFFSETFROM:+0200
TZOFFSETTO:+0100
TZNAME:CET
DTSTART:20261025T010000
END:STANDARD
END:VTIMEZONE
BEGIN:VEVENT
DTSTART;TZID=Europe/Paris:20250930T200000
DTEND;TZID=Europe/Paris:20251005T150000
DTSTAMP:20260422T001916
CREATED:20250702T153808Z
LAST-MODIFIED:20250905T200246Z
UID:3590-1759262400-1759676400@lepoche.be
SUMMARY:Du 30 septembre au 5 octobre - Théâtre : Qui est Monsieur Schmitt ?
DESCRIPTION:Mr et Mme Bélier dînent dans leur salle à manger quand ils sont interrompus par la sonnerie du téléphone. \nOr\, ils n’ont pas d’abonnement téléphonique. \nLe mystérieux interlocuteur\, insistant\, demande à parler à un certain M. Schmitt… \nPlus étrange encore\, M. et Mme Bélier découvrent que l’intérieur de leur appartement a changé : les cadres accrochés aux murs ont été remplacés par d’autres\, les livres et les vêtements ne sont pas les leurs… \nSont-ils\, sans le savoir\, Mr et Mme Schmitt ? \nL’écriture de Sébastien Thiéry occupe un territoire original\, iconoclaste\, provocateur\, hors normes. \nIl nous livre avec Qui est Monsieur Schmitt ? une pièce drôle\, absurde\, troublante pendant laquelle on rit\, on s’inquiète\, on se remet en question. \nLa comédie de boulevard atteint ici la dimension d’un questionnement existentiel\, un ovni en forme de point d’interrogation avec cette éternelle question : Qui est fou finalement ? Qui est Monsieur Schmitt ? \nOu\, pour le dire autrement\, qui sommes-nous ? \nIl ne faut évidemment pas s’attendre à trouver ici une quelconque réponse… \nUne soirée cocasse\, désopilante et ébouriffante. \nUn véritable régal ! Kafka aurait adoré\, mais Feydeau aussi. \nInfos & réservations : \n☎  0497/44.32.96 \n✉  fabrice@wgprod.be \nPrévente : 15€  /  Sur place : 17€ \nLe spectacle fait également partie de l’abonnement du Poche 2025-2026.
URL:https://lepoche.be/agenda/du-30-septembre-au-5-octobre-theatre-qui-est-monsieur-schmitt/
LOCATION:Le Poche Théâtre\, Rue du Fort\, 70\, Charleroi\, Hainaut\, 6000\, Belgique
CATEGORIES:Théâtre
ATTACH;FMTTYPE=image/jpeg:https://lepoche.be/wp-content/uploads/2025/07/Schmitt_750.jpg
ORGANIZER;CN="%C3%80 la Wanna Gain Productions":MAILTO:fabrice@wgprod.be
END:VEVENT
END:VCALENDAR