BEGIN:VCALENDAR
VERSION:2.0
PRODID:-// - ECPv6.15.20//NONSGML v1.0//EN
CALSCALE:GREGORIAN
METHOD:PUBLISH
X-ORIGINAL-URL:https://lepoche.be
X-WR-CALDESC:Évènements pour 
REFRESH-INTERVAL;VALUE=DURATION:PT1H
X-Robots-Tag:noindex
X-PUBLISHED-TTL:PT1H
BEGIN:VTIMEZONE
TZID:Europe/Paris
BEGIN:DAYLIGHT
TZOFFSETFROM:+0100
TZOFFSETTO:+0200
TZNAME:CEST
DTSTART:20240331T010000
END:DAYLIGHT
BEGIN:STANDARD
TZOFFSETFROM:+0200
TZOFFSETTO:+0100
TZNAME:CET
DTSTART:20241027T010000
END:STANDARD
BEGIN:DAYLIGHT
TZOFFSETFROM:+0100
TZOFFSETTO:+0200
TZNAME:CEST
DTSTART:20250330T010000
END:DAYLIGHT
BEGIN:STANDARD
TZOFFSETFROM:+0200
TZOFFSETTO:+0100
TZNAME:CET
DTSTART:20251026T010000
END:STANDARD
BEGIN:DAYLIGHT
TZOFFSETFROM:+0100
TZOFFSETTO:+0200
TZNAME:CEST
DTSTART:20260329T010000
END:DAYLIGHT
BEGIN:STANDARD
TZOFFSETFROM:+0200
TZOFFSETTO:+0100
TZNAME:CET
DTSTART:20261025T010000
END:STANDARD
END:VTIMEZONE
BEGIN:VEVENT
DTSTART;TZID=Europe/Paris:20251106T200000
DTEND;TZID=Europe/Paris:20251109T150000
DTSTAMP:20260421T224426
CREATED:20250905T174617Z
LAST-MODIFIED:20250905T182200Z
UID:3797-1762459200-1762700400@lepoche.be
SUMMARY:Du 6 au 9 novembre - Théâtre : Les belles-sœurs
DESCRIPTION:La pièce ‘Les Belles-Sœurs’ est une comédie de boulevard qui explore avec humour et cruauté les dynamiques familiales\, les secrets inavouables et les tensions entre les sexes. \nL’histoire se déroule lors d’une pendaison de crémaillère organisée par Nicole et son mari Francky dans leur nouvelle maison de campagne. \nPour l’occasion\, ils ont convié la famille proche : les deux frères de Francky et leurs épouses. \nLe grain de sable qui va enrayer cette soirée est l’arrivée surprise de Talia\, la jeune\, belle et libre secrétaire de Francky\, également invitée. \nSa présence met immédiatement les trois frères dans tous leurs états (panique\, suspicion\, gêne évidente)\, éveillant instantanément la jalousie et la curiosité des trois épouses. \nInfos & réservations : \n✉  alainlackner@gmail.com \n☎  0499/89.77.12 \nTarif : 12€
URL:https://lepoche.be/agenda/du-6-au-9-novembre-theatre-les-belles-soeurs/
LOCATION:Le Poche Théâtre\, Rue du Fort\, 70\, Charleroi\, Hainaut\, 6000\, Belgique
CATEGORIES:Théâtre
ATTACH;FMTTYPE=image/jpeg:https://lepoche.be/wp-content/uploads/2025/09/belles_750.jpg
ORGANIZER;CN="Alain Lackner":MAILTO:alainlackner@gmail.com
END:VEVENT
END:VCALENDAR