BEGIN:VCALENDAR
VERSION:2.0
PRODID:-// - ECPv6.15.20//NONSGML v1.0//EN
CALSCALE:GREGORIAN
METHOD:PUBLISH
X-ORIGINAL-URL:https://lepoche.be
X-WR-CALDESC:Évènements pour 
REFRESH-INTERVAL;VALUE=DURATION:PT1H
X-Robots-Tag:noindex
X-PUBLISHED-TTL:PT1H
BEGIN:VTIMEZONE
TZID:Europe/Paris
BEGIN:DAYLIGHT
TZOFFSETFROM:+0100
TZOFFSETTO:+0200
TZNAME:CEST
DTSTART:20250330T010000
END:DAYLIGHT
BEGIN:STANDARD
TZOFFSETFROM:+0200
TZOFFSETTO:+0100
TZNAME:CET
DTSTART:20251026T010000
END:STANDARD
BEGIN:DAYLIGHT
TZOFFSETFROM:+0100
TZOFFSETTO:+0200
TZNAME:CEST
DTSTART:20260329T010000
END:DAYLIGHT
BEGIN:STANDARD
TZOFFSETFROM:+0200
TZOFFSETTO:+0100
TZNAME:CET
DTSTART:20261025T010000
END:STANDARD
BEGIN:DAYLIGHT
TZOFFSETFROM:+0100
TZOFFSETTO:+0200
TZNAME:CEST
DTSTART:20270328T010000
END:DAYLIGHT
BEGIN:STANDARD
TZOFFSETFROM:+0200
TZOFFSETTO:+0100
TZNAME:CET
DTSTART:20271031T010000
END:STANDARD
END:VTIMEZONE
BEGIN:VEVENT
DTSTART;TZID=Europe/Paris:20260301T150000
DTEND;TZID=Europe/Paris:20260301T150000
DTSTAMP:20260421T153707
CREATED:20260205T120347Z
LAST-MODIFIED:20260205T120632Z
UID:4224-1772377200-1772377200@lepoche.be
SUMMARY:Dimanche 1er mars - Concert : Hommage musical à Annie Cordy
DESCRIPTION:Il y a 5 ans déjà\, Annie Cordy nous quittait. \nJean Pierre Bruno a voulu lui rendre hommage avec ce spectacle. \nC’est à Fabienne Bury que revient l’honneur d’interpréter ses chansons\, ce qu’elle fait très bien\, sans copier Annie comme certaines l’ont fait\, car personne n’arrive à la hauteur de la cheville de notre Annie Cordy. \nIl lui fallait un artiste pour lui donner la réplique comme son partenaire André Bourvil. Là aussi il est impossible de le remplacer. C’est Rolando qui interprètera ses chansons mais avec sa propre personnalité. \nEnfin\, Marie-Christine Garcia sera de la partie également dans le répertoire Ginette Réno\, Joséphine Baker et Edith Piaf. \nBien entendu\, Jean Pierre Bruno ne pouvait rester sans participer à cette hommage\, qui sera présenté sous forme de revue\, si chère à Annie Cordy. \nInfos & réservations : \n✉  jeanpierrebruno@hotmail.com \n☎  0467/33.58.58 \nTarif : 20€
URL:https://lepoche.be/agenda/dimanche-1er-mars-concert-hommage-musical-a-annie-cordy/
LOCATION:Le Poche Théâtre\, Rue du Fort\, 70\, Charleroi\, Hainaut\, 6000\, Belgique
CATEGORIES:Concert
ATTACH;FMTTYPE=image/png:https://lepoche.be/wp-content/uploads/2026/02/CORDY_750.png
ORGANIZER;CN="Jean-Pierre Bruno":MAILTO:jeanpierrebruno@hotmail.com
END:VEVENT
END:VCALENDAR