BEGIN:VCALENDAR
VERSION:2.0
PRODID:-// - ECPv6.15.20//NONSGML v1.0//EN
CALSCALE:GREGORIAN
METHOD:PUBLISH
X-ORIGINAL-URL:https://lepoche.be
X-WR-CALDESC:Évènements pour 
REFRESH-INTERVAL;VALUE=DURATION:PT1H
X-Robots-Tag:noindex
X-PUBLISHED-TTL:PT1H
BEGIN:VTIMEZONE
TZID:Europe/Paris
BEGIN:DAYLIGHT
TZOFFSETFROM:+0100
TZOFFSETTO:+0200
TZNAME:CEST
DTSTART:20250330T010000
END:DAYLIGHT
BEGIN:STANDARD
TZOFFSETFROM:+0200
TZOFFSETTO:+0100
TZNAME:CET
DTSTART:20251026T010000
END:STANDARD
BEGIN:DAYLIGHT
TZOFFSETFROM:+0100
TZOFFSETTO:+0200
TZNAME:CEST
DTSTART:20260329T010000
END:DAYLIGHT
BEGIN:STANDARD
TZOFFSETFROM:+0200
TZOFFSETTO:+0100
TZNAME:CET
DTSTART:20261025T010000
END:STANDARD
BEGIN:DAYLIGHT
TZOFFSETFROM:+0100
TZOFFSETTO:+0200
TZNAME:CEST
DTSTART:20270328T010000
END:DAYLIGHT
BEGIN:STANDARD
TZOFFSETFROM:+0200
TZOFFSETTO:+0100
TZNAME:CET
DTSTART:20271031T010000
END:STANDARD
END:VTIMEZONE
BEGIN:VEVENT
DTSTART;TZID=Europe/Paris:20260321T200000
DTEND;TZID=Europe/Paris:20260321T200000
DTSTAMP:20260421T195644
CREATED:20250820T194621Z
LAST-MODIFIED:20250820T194621Z
UID:3720-1774123200-1774123200@lepoche.be
SUMMARY:Samedi 21 mars - Eric Boschman : Ni dieux\, ni maîtres\, mais du rouge
DESCRIPTION:Le Wine Man Show by Eric Boschman « Ni dieux\, ni maître\, mais du rouge »\, c’est un litre et demi d’improvisations et de bonheurs ! \nUn spectacle à boire : l’histoire du vin racontée par le plus « barge » des sommeliers ! \nDevenez goûteur en vous instruisant. \nEric Boschman\, sommelier belge mondialement connu\, présente un véritable « wine man show » autour des vignes et des vins du monde. \nDrôlement impertinent\, professeur improvisé\, il traverse la grande Histoire\, et nous trimbale dans les vignobles de la Grèce au Liban\, du Chili à l’Argentine et l’Europe. \nEt de voyages en voyages\, il nous met cul par-dessus tête et nous enivre autant d’anecdotes que de ce nectar qui accompagne nos vies depuis des millénaires. \nEn passionné\, Eric Boschman partage « son gai savoir » à la manière d’un Rabelais moderne\, avec beaucoup d’esprit et une certaine irrévérence. \nMais que voulez-vous\, il n’a ni Dieu\, ni maître… Si vous aimez le rouge (ou le blanc)\, n’hésitez pas un seul instant ! Tchin ! \n \nTarif : 25€ \nAchetez vos billets en ligne :\nVente de billets en ligne
URL:https://lepoche.be/agenda/samedi-21-mars-eric-boschman-ni-dieux-ni-maitres-mais-du-rouge/
LOCATION:Le Poche Théâtre\, Rue du Fort\, 70\, Charleroi\, Hainaut\, 6000\, Belgique
CATEGORIES:Humour
ATTACH;FMTTYPE=image/png:https://lepoche.be/wp-content/uploads/2025/08/Wine2026_750.png
ORGANIZER;CN="Le Poche":MAILTO:info@lepoche.be
END:VEVENT
END:VCALENDAR