BEGIN:VCALENDAR
VERSION:2.0
PRODID:-// - ECPv6.15.20//NONSGML v1.0//EN
CALSCALE:GREGORIAN
METHOD:PUBLISH
X-ORIGINAL-URL:https://lepoche.be
X-WR-CALDESC:Évènements pour 
REFRESH-INTERVAL;VALUE=DURATION:PT1H
X-Robots-Tag:noindex
X-PUBLISHED-TTL:PT1H
BEGIN:VTIMEZONE
TZID:Europe/Paris
BEGIN:DAYLIGHT
TZOFFSETFROM:+0100
TZOFFSETTO:+0200
TZNAME:CEST
DTSTART:20250330T010000
END:DAYLIGHT
BEGIN:STANDARD
TZOFFSETFROM:+0200
TZOFFSETTO:+0100
TZNAME:CET
DTSTART:20251026T010000
END:STANDARD
BEGIN:DAYLIGHT
TZOFFSETFROM:+0100
TZOFFSETTO:+0200
TZNAME:CEST
DTSTART:20260329T010000
END:DAYLIGHT
BEGIN:STANDARD
TZOFFSETFROM:+0200
TZOFFSETTO:+0100
TZNAME:CET
DTSTART:20261025T010000
END:STANDARD
BEGIN:DAYLIGHT
TZOFFSETFROM:+0100
TZOFFSETTO:+0200
TZNAME:CEST
DTSTART:20270328T010000
END:DAYLIGHT
BEGIN:STANDARD
TZOFFSETFROM:+0200
TZOFFSETTO:+0100
TZNAME:CET
DTSTART:20271031T010000
END:STANDARD
END:VTIMEZONE
BEGIN:VEVENT
DTSTART;TZID=Europe/Paris:20260413T200000
DTEND;TZID=Europe/Paris:20260413T200000
DTSTAMP:20260421T135231
CREATED:20260319T132049Z
LAST-MODIFIED:20260319T132158Z
UID:4374-1776110400-1776110400@lepoche.be
SUMMARY:Lundi 13 avril - Les lundis du Poche 2.0 : François de Brigode
DESCRIPTION:Un invité emblématique\, des chroniqueurs\, une scène et un public… c’est la recette des « Lundis du Poche 2.0 »\, qui reviennent dans une version remplie d’humour et de dérision sous forme d’un talk-show basé sur une revue de l’actualité décomplexée\, le tout entièrement filmé à la façon d’une émission télévisée. \n \nTarif : 10€ \nAchetez vos billets en ligne :\nVente de billets en ligne
URL:https://lepoche.be/agenda/lundi-13-avril-les-lundis-du-poche-2-0-francois-de-brigode/
LOCATION:Le Poche Théâtre\, Rue du Fort\, 70\, Charleroi\, Hainaut\, 6000\, Belgique
CATEGORIES:Talk-show
ATTACH;FMTTYPE=image/png:https://lepoche.be/wp-content/uploads/2026/03/LDP-Francois-de-Brigode_750.png
ORGANIZER;CN="Le Poche":MAILTO:info@lepoche.be
END:VEVENT
END:VCALENDAR