BEGIN:VCALENDAR
VERSION:2.0
PRODID:-// - ECPv6.15.20//NONSGML v1.0//EN
CALSCALE:GREGORIAN
METHOD:PUBLISH
X-ORIGINAL-URL:https://lepoche.be
X-WR-CALDESC:Évènements pour 
REFRESH-INTERVAL;VALUE=DURATION:PT1H
X-Robots-Tag:noindex
X-PUBLISHED-TTL:PT1H
BEGIN:VTIMEZONE
TZID:Europe/Paris
BEGIN:DAYLIGHT
TZOFFSETFROM:+0100
TZOFFSETTO:+0200
TZNAME:CEST
DTSTART:20250330T010000
END:DAYLIGHT
BEGIN:STANDARD
TZOFFSETFROM:+0200
TZOFFSETTO:+0100
TZNAME:CET
DTSTART:20251026T010000
END:STANDARD
BEGIN:DAYLIGHT
TZOFFSETFROM:+0100
TZOFFSETTO:+0200
TZNAME:CEST
DTSTART:20260329T010000
END:DAYLIGHT
BEGIN:STANDARD
TZOFFSETFROM:+0200
TZOFFSETTO:+0100
TZNAME:CET
DTSTART:20261025T010000
END:STANDARD
BEGIN:DAYLIGHT
TZOFFSETFROM:+0100
TZOFFSETTO:+0200
TZNAME:CEST
DTSTART:20270328T010000
END:DAYLIGHT
BEGIN:STANDARD
TZOFFSETFROM:+0200
TZOFFSETTO:+0100
TZNAME:CET
DTSTART:20271031T010000
END:STANDARD
END:VTIMEZONE
BEGIN:VEVENT
DTSTART;TZID=Europe/Paris:20260422T200000
DTEND;TZID=Europe/Paris:20260422T200000
DTSTAMP:20260422T014558
CREATED:20260319T192745Z
LAST-MODIFIED:20260319T193404Z
UID:4380-1776888000-1776888000@lepoche.be
SUMMARY:Mercredi 22 avril - Théâtre : Les rossignols du carnage
DESCRIPTION:On change le ton ! \nPlace à la dystopie\, une pure merveille d’interprétation\, de mise en scène et un texte percutant de vérités sur l’ombre qui frappe désormais à nos portes… \nDeux hommes à un tournant de leur vie décident de se raconter ce qu’ils présentent comme “la dernière histoire de l’humanité”. \nCommence alors une discussion profonde sur l’impact des récits\, le poids des petits et grands échecs\, et le sens que l’on donne à notre existence. \nL’ombre de Don Quichotte\, et de tous les losers magnifiques de l’histoire\, plane. \nDe et avec Mathieu Laviolette & Dimitri Lepage \nMise en scène Jérôme Jacob-Paquay \nDécors et costumes Anne-Frédérique Bailly \nMusique originale Agathe Lavarel \nChorégraphies Virginie Benoist \nTarif : 18€ \nAchetez vos billets en ligne :\nVente de billets en ligne
URL:https://lepoche.be/agenda/mercredi-22-avril-theatre-les-rossignols-du-carnage/
LOCATION:Le Poche Théâtre\, Rue du Fort\, 70\, Charleroi\, Hainaut\, 6000\, Belgique
CATEGORIES:Théâtre
ATTACH;FMTTYPE=image/jpeg:https://lepoche.be/wp-content/uploads/2026/03/rossignols_750.jpg
ORGANIZER;CN="La Clanche Th%C3%A9%C3%A2tre":MAILTO:laclanche.theatre@gmail.com
END:VEVENT
END:VCALENDAR