BEGIN:VCALENDAR
VERSION:2.0
PRODID:-// - ECPv6.15.20//NONSGML v1.0//EN
CALSCALE:GREGORIAN
METHOD:PUBLISH
X-ORIGINAL-URL:https://lepoche.be
X-WR-CALDESC:Évènements pour 
REFRESH-INTERVAL;VALUE=DURATION:PT1H
X-Robots-Tag:noindex
X-PUBLISHED-TTL:PT1H
BEGIN:VTIMEZONE
TZID:Europe/Paris
BEGIN:DAYLIGHT
TZOFFSETFROM:+0100
TZOFFSETTO:+0200
TZNAME:CEST
DTSTART:20250330T010000
END:DAYLIGHT
BEGIN:STANDARD
TZOFFSETFROM:+0200
TZOFFSETTO:+0100
TZNAME:CET
DTSTART:20251026T010000
END:STANDARD
BEGIN:DAYLIGHT
TZOFFSETFROM:+0100
TZOFFSETTO:+0200
TZNAME:CEST
DTSTART:20260329T010000
END:DAYLIGHT
BEGIN:STANDARD
TZOFFSETFROM:+0200
TZOFFSETTO:+0100
TZNAME:CET
DTSTART:20261025T010000
END:STANDARD
BEGIN:DAYLIGHT
TZOFFSETFROM:+0100
TZOFFSETTO:+0200
TZNAME:CEST
DTSTART:20270328T010000
END:DAYLIGHT
BEGIN:STANDARD
TZOFFSETFROM:+0200
TZOFFSETTO:+0100
TZNAME:CET
DTSTART:20271031T010000
END:STANDARD
END:VTIMEZONE
BEGIN:VEVENT
DTSTART;TZID=Europe/Paris:20260501T200000
DTEND;TZID=Europe/Paris:20260501T200000
DTSTAMP:20260421T141113
CREATED:20260225T201615Z
LAST-MODIFIED:20260225T201640Z
UID:4313-1777665600-1777665600@lepoche.be
SUMMARY:Vendredi 1er mai - Antoine et Thibault : Deux fois rien
DESCRIPTION:« Embarquez dans notre monde et venez rire avec nous ! » \nÇa\, c’était censé être le début du pitch de notre spectacle. \nMais on préfère être honnêtes : on ne sait pas ce qu’on va faire. \nVoilà\, c’est dit ! \nMais comme on ne veut pas décevoir notre producteur\, on va le faire. \nQui sait ? Peut-être qu’un miracle va se produire… \nCrédits photos : Christelle Anceau | www.chris-photos.be \nTarif : 15€ \nAchetez vos billets en ligne :\nVente de billets en ligne
URL:https://lepoche.be/agenda/vendredi-1er-mai-antoine-et-thibault-deux-fois-rien/
LOCATION:Le Poche Théâtre\, Rue du Fort\, 70\, Charleroi\, Hainaut\, 6000\, Belgique
CATEGORIES:Humour
ATTACH;FMTTYPE=image/png:https://lepoche.be/wp-content/uploads/2026/02/AT_750.png
ORGANIZER;CN="Olines Productions":MAILTO:argentinofelicien@hotmail.com
END:VEVENT
END:VCALENDAR