BEGIN:VCALENDAR
VERSION:2.0
PRODID:-// - ECPv6.15.20//NONSGML v1.0//EN
CALSCALE:GREGORIAN
METHOD:PUBLISH
X-ORIGINAL-URL:https://lepoche.be
X-WR-CALDESC:Évènements pour 
REFRESH-INTERVAL;VALUE=DURATION:PT1H
X-Robots-Tag:noindex
X-PUBLISHED-TTL:PT1H
BEGIN:VTIMEZONE
TZID:Europe/Paris
BEGIN:DAYLIGHT
TZOFFSETFROM:+0100
TZOFFSETTO:+0200
TZNAME:CEST
DTSTART:20250330T010000
END:DAYLIGHT
BEGIN:STANDARD
TZOFFSETFROM:+0200
TZOFFSETTO:+0100
TZNAME:CET
DTSTART:20251026T010000
END:STANDARD
BEGIN:DAYLIGHT
TZOFFSETFROM:+0100
TZOFFSETTO:+0200
TZNAME:CEST
DTSTART:20260329T010000
END:DAYLIGHT
BEGIN:STANDARD
TZOFFSETFROM:+0200
TZOFFSETTO:+0100
TZNAME:CET
DTSTART:20261025T010000
END:STANDARD
BEGIN:DAYLIGHT
TZOFFSETFROM:+0100
TZOFFSETTO:+0200
TZNAME:CEST
DTSTART:20270328T010000
END:DAYLIGHT
BEGIN:STANDARD
TZOFFSETFROM:+0200
TZOFFSETTO:+0100
TZNAME:CET
DTSTART:20271031T010000
END:STANDARD
END:VTIMEZONE
BEGIN:VEVENT
DTSTART;TZID=Europe/Paris:20260502T200000
DTEND;TZID=Europe/Paris:20260502T200000
DTSTAMP:20260421T135633
CREATED:20260225T211850Z
LAST-MODIFIED:20260225T211850Z
UID:4327-1777752000-1777752000@lepoche.be
SUMMARY:Samedi 2 mai - Félicien : Artifices
DESCRIPTION:✨ ARTIFICES – Le premier spectacle de Félicien ✨ \nOn dit que la vie commence à 40 ans ? \nOk… mais quels sont les artifices qui nous permettent de tenir jusque-là avant de vraiment nous découvrir ? 🤔 \nFélicien pensait avoir tout prévu pour cette soirée\, mais quand ses amis ont besoin de lui\, il ne peut les laisser tomber. \nRésultat ? \nLe spectacle prend une toute autre allure ! \nComment va-t-il sauver son ami des griffes de la dépression ? \nLa question est posée\, les solutions sont à trouver ! \nAu travers d’un texte drôle et touchant\, Félicien vous propose une piste de réflexion sur des sujets universels\, qui nous concernent tous et toutes à un moment ou un autre. \n👉 Alors\, on en rigole ensemble ? \nTarif : 15€ \nAchetez vos billets en ligne :\nVente de billets en ligne
URL:https://lepoche.be/agenda/samedi-2-mai-felicien-artifices/
LOCATION:Le Poche Théâtre\, Rue du Fort\, 70\, Charleroi\, Hainaut\, 6000\, Belgique
CATEGORIES:Humour
ATTACH;FMTTYPE=image/png:https://lepoche.be/wp-content/uploads/2026/02/Felicien_750.png
ORGANIZER;CN="Olines Productions":MAILTO:argentinofelicien@hotmail.com
END:VEVENT
END:VCALENDAR