BEGIN:VCALENDAR
VERSION:2.0
PRODID:-// - ECPv6.15.20//NONSGML v1.0//EN
CALSCALE:GREGORIAN
METHOD:PUBLISH
X-ORIGINAL-URL:https://lepoche.be
X-WR-CALDESC:Évènements pour 
REFRESH-INTERVAL;VALUE=DURATION:PT1H
X-Robots-Tag:noindex
X-PUBLISHED-TTL:PT1H
BEGIN:VTIMEZONE
TZID:Europe/Paris
BEGIN:DAYLIGHT
TZOFFSETFROM:+0100
TZOFFSETTO:+0200
TZNAME:CEST
DTSTART:20250330T010000
END:DAYLIGHT
BEGIN:STANDARD
TZOFFSETFROM:+0200
TZOFFSETTO:+0100
TZNAME:CET
DTSTART:20251026T010000
END:STANDARD
BEGIN:DAYLIGHT
TZOFFSETFROM:+0100
TZOFFSETTO:+0200
TZNAME:CEST
DTSTART:20260329T010000
END:DAYLIGHT
BEGIN:STANDARD
TZOFFSETFROM:+0200
TZOFFSETTO:+0100
TZNAME:CET
DTSTART:20261025T010000
END:STANDARD
BEGIN:DAYLIGHT
TZOFFSETFROM:+0100
TZOFFSETTO:+0200
TZNAME:CEST
DTSTART:20270328T010000
END:DAYLIGHT
BEGIN:STANDARD
TZOFFSETFROM:+0200
TZOFFSETTO:+0100
TZNAME:CET
DTSTART:20271031T010000
END:STANDARD
END:VTIMEZONE
BEGIN:VEVENT
DTSTART;TZID=Europe/Paris:20260604T200000
DTEND;TZID=Europe/Paris:20260614T150000
DTSTAMP:20260421T173306
CREATED:20250702T162431Z
LAST-MODIFIED:20260122T172344Z
UID:3605-1780603200-1781449200@lepoche.be
SUMMARY:Les 4\, 5\, 6\, 7\, 11\, 12\, 13 et 14 juin - Théâtre : Demain la revanche
DESCRIPTION:Matthieu débarque chez ses parents à cinq heures du matin. \nIl est trempé des pieds à la tête\, porte un sac à dos rempli de pierres\, et souffre d’une amnésie totale. \nLe père et la mère tentent de comprendre ce qui a bien pu arriver à leur fils\, mais cette enquête se transforme vite en règlement de compte familial. \nQui est Matthieu ? \nUn amnésique ? \nUn manipulateur ? \nUn enfant qui vient prendre une revanche sur sa famille ?… \nCette comédie devrait faire du bien à ceux qui ont des problèmes à régler avec leurs parents\, ou avec leurs enfants. \nC’est-à-dire à tout le monde… \nInfos & réservations : \n☎  0497/44.32.96 \n✉  fabrice@wgprod.be \nPrévente : 15€  /  Sur place : 17€ \nLe spectacle fait également partie de l’abonnement du Poche 2025-2026.
URL:https://lepoche.be/agenda/les-4-5-6-7-11-12-13-et-14-juin-theatre-demain-la-revanche/
LOCATION:Le Poche Théâtre\, Rue du Fort\, 70\, Charleroi\, Hainaut\, 6000\, Belgique
CATEGORIES:Théâtre
ATTACH;FMTTYPE=image/jpeg:https://lepoche.be/wp-content/uploads/2025/07/revanche2_750.jpg
ORGANIZER;CN="%C3%80 la Wanna Gain Productions":MAILTO:fabrice@wgprod.be
END:VEVENT
END:VCALENDAR