BEGIN:VCALENDAR
VERSION:2.0
PRODID:-// - ECPv6.15.20//NONSGML v1.0//EN
CALSCALE:GREGORIAN
METHOD:PUBLISH
X-ORIGINAL-URL:https://lepoche.be
X-WR-CALDESC:Évènements pour 
REFRESH-INTERVAL;VALUE=DURATION:PT1H
X-Robots-Tag:noindex
X-PUBLISHED-TTL:PT1H
BEGIN:VTIMEZONE
TZID:Europe/Paris
BEGIN:DAYLIGHT
TZOFFSETFROM:+0100
TZOFFSETTO:+0200
TZNAME:CEST
DTSTART:20250330T010000
END:DAYLIGHT
BEGIN:STANDARD
TZOFFSETFROM:+0200
TZOFFSETTO:+0100
TZNAME:CET
DTSTART:20251026T010000
END:STANDARD
BEGIN:DAYLIGHT
TZOFFSETFROM:+0100
TZOFFSETTO:+0200
TZNAME:CEST
DTSTART:20260329T010000
END:DAYLIGHT
BEGIN:STANDARD
TZOFFSETFROM:+0200
TZOFFSETTO:+0100
TZNAME:CET
DTSTART:20261025T010000
END:STANDARD
BEGIN:DAYLIGHT
TZOFFSETFROM:+0100
TZOFFSETTO:+0200
TZNAME:CEST
DTSTART:20270328T010000
END:DAYLIGHT
BEGIN:STANDARD
TZOFFSETFROM:+0200
TZOFFSETTO:+0100
TZNAME:CET
DTSTART:20271031T010000
END:STANDARD
END:VTIMEZONE
BEGIN:VEVENT
DTSTART;TZID=Europe/Paris:20260621T150000
DTEND;TZID=Europe/Paris:20260621T150000
DTSTAMP:20260421T172302
CREATED:20260304T212752Z
LAST-MODIFIED:20260325T205149Z
UID:4352-1782054000-1782054000@lepoche.be
SUMMARY:Dimanche 21 juin - Théâtre : Je ne suis pas con !
DESCRIPTION:« Je ne suis pas con » est une comédie pétillante et pleine de rebondissements. \nOn y suit un comédien (Didier Boclinville) décidé à rendre hommage à Francis Veber\, l’auteur du célèbre Dîner de cons. \nPour y parvenir\, il veut créer sa propre pièce… mais rien ne se passe comme prévu. \nAvec l’aide (ou parfois le désordre) de Clémentine (Audrey Devos)\, envoyée par le directeur du théâtre (André Louis) dans lequel il travaille\, notre auteur se lance dans des répétitions qui tournent vite au chaos : idées farfelues\, quiproquos\, improvisations ratées\, fous rires incontrôlés… \nLa pièce montre avec humour les coulisses d’une création théâtrale : ce qui devrait être un travail bien huilé devient une succession de situations absurdes et imprévisibles. \nC’est à la fois un hommage aux comédies théâtrales et une plongée joyeuse dans le désordre créatif\, où même les ratés deviennent sources de rires. \nLes comédiens : \nAudrey Devos est une comédienne professionnelle\, reconnue dans le milieu de la comédie belge. Elle s’illustre par son talent et sa présence sur scène\, apportant humour à chacun de ses rôles. \nDidier Boclinville est un comédien professionnel liégeois\, reconnu pour son énergie et sa polyvalence. À l’aise au théâtre comme à l’écran\, il incarne ses rôles avec générosité et authenticité. \nAvec Audrey Devos\, Didier Boclinville et la participation d’André Louis \nAuteur et mise en scène : Rudy Etienne \nDurée : version qui sera présentée au Festival d’Avignon 2026 d’une durée de 60 minutes. \nTarifs :\nNormal : 20€  /  Seniors\, moins de 26 ans et groupe (min 10 personnes) : 17€ \nAchetez vos billets en ligne :\nVente de billets en ligne
URL:https://lepoche.be/agenda/dimanche-21-juin-theatre-je-ne-suis-pas-con/
LOCATION:Le Poche Théâtre\, Rue du Fort\, 70\, Charleroi\, Hainaut\, 6000\, Belgique
CATEGORIES:Théâtre
ATTACH;FMTTYPE=image/png:https://lepoche.be/wp-content/uploads/2026/03/Affiche-je-ne-suis-pas-con_750.png
ORGANIZER;CN="Le Poche":MAILTO:info@lepoche.be
END:VEVENT
END:VCALENDAR