BEGIN:VCALENDAR
VERSION:2.0
PRODID:-// - ECPv6.15.20//NONSGML v1.0//EN
CALSCALE:GREGORIAN
METHOD:PUBLISH
X-ORIGINAL-URL:https://lepoche.be
X-WR-CALDESC:Évènements pour 
REFRESH-INTERVAL;VALUE=DURATION:PT1H
X-Robots-Tag:noindex
X-PUBLISHED-TTL:PT1H
BEGIN:VTIMEZONE
TZID:Europe/Paris
BEGIN:DAYLIGHT
TZOFFSETFROM:+0100
TZOFFSETTO:+0200
TZNAME:CEST
DTSTART:20230326T010000
END:DAYLIGHT
BEGIN:STANDARD
TZOFFSETFROM:+0200
TZOFFSETTO:+0100
TZNAME:CET
DTSTART:20231029T010000
END:STANDARD
BEGIN:DAYLIGHT
TZOFFSETFROM:+0100
TZOFFSETTO:+0200
TZNAME:CEST
DTSTART:20240331T010000
END:DAYLIGHT
BEGIN:STANDARD
TZOFFSETFROM:+0200
TZOFFSETTO:+0100
TZNAME:CET
DTSTART:20241027T010000
END:STANDARD
BEGIN:DAYLIGHT
TZOFFSETFROM:+0100
TZOFFSETTO:+0200
TZNAME:CEST
DTSTART:20250330T010000
END:DAYLIGHT
BEGIN:STANDARD
TZOFFSETFROM:+0200
TZOFFSETTO:+0100
TZNAME:CET
DTSTART:20251026T010000
END:STANDARD
END:VTIMEZONE
BEGIN:VEVENT
DTSTART;TZID=Europe/Paris:20240616T170000
DTEND;TZID=Europe/Paris:20240616T170000
DTSTAMP:20260421T210827
CREATED:20240606T103525Z
LAST-MODIFIED:20240730T191657Z
UID:2898-1718557200-1718557200@lepoche.be
SUMMARY:Dimanche 16 juin - Impro : Back to 90'S
DESCRIPTION:Cette fois les années 90 sont reines! \nVous serez plongés en immersion dans ces belles années! \nRappelez-vous… les chorégraphies des Backstreet Boys\, les clips des Spice Girls\, Victor et Nicky des Feux De l’Amour\, Hélène et les garçons (mais surtout Nicolas!)\, Nirvana\, IAM\, vos premiers téléphones\, vos premières fois à crier « Ne téléphonez pas! Je suis sur l’ordinateur ! »\, la chute du mur de Berlin\, etc… \nBref\, toute cette culture vous fera replonger dans vos vieux souvenirs! \nVous choisirez différents thèmes « Années 90 » et les improvisateurs vous rendront nostalgiques de cette belle époque en la mettant à l’honneur et en vous rappelant les pépites de cette décennie de folie ! \nInfos & réservations : \n✉  contact@latroupecarbone.be \n☎  0494/399.449 \nBilletterie : https://latroupecarbone.be/reservations/ \nTarifs:\nNormal : 10€ / Seniors & étudiants : 8€ / Moins de 12 ans : 5€ / Article 27
URL:https://lepoche.be/agenda/dimanche-16-juin-impro/
LOCATION:Le Poche Théâtre\, Rue du Fort\, 70\, Charleroi\, Hainaut\, 6000\, Belgique
CATEGORIES:Improvisation
ATTACH;FMTTYPE=image/jpeg:https://lepoche.be/wp-content/uploads/2024/06/carbone_a3_750.jpg
ORGANIZER;CN="La troupe Carbone":MAILTO:contact@latroupecarbone.be
END:VEVENT
END:VCALENDAR