BEGIN:VCALENDAR
VERSION:2.0
PRODID:-// - ECPv6.15.20//NONSGML v1.0//EN
CALSCALE:GREGORIAN
METHOD:PUBLISH
X-ORIGINAL-URL:https://lepoche.be
X-WR-CALDESC:Évènements pour 
REFRESH-INTERVAL;VALUE=DURATION:PT1H
X-Robots-Tag:noindex
X-PUBLISHED-TTL:PT1H
BEGIN:VTIMEZONE
TZID:Europe/Paris
BEGIN:DAYLIGHT
TZOFFSETFROM:+0100
TZOFFSETTO:+0200
TZNAME:CEST
DTSTART:20230326T010000
END:DAYLIGHT
BEGIN:STANDARD
TZOFFSETFROM:+0200
TZOFFSETTO:+0100
TZNAME:CET
DTSTART:20231029T010000
END:STANDARD
BEGIN:DAYLIGHT
TZOFFSETFROM:+0100
TZOFFSETTO:+0200
TZNAME:CEST
DTSTART:20240331T010000
END:DAYLIGHT
BEGIN:STANDARD
TZOFFSETFROM:+0200
TZOFFSETTO:+0100
TZNAME:CET
DTSTART:20241027T010000
END:STANDARD
BEGIN:DAYLIGHT
TZOFFSETFROM:+0100
TZOFFSETTO:+0200
TZNAME:CEST
DTSTART:20250330T010000
END:DAYLIGHT
BEGIN:STANDARD
TZOFFSETFROM:+0200
TZOFFSETTO:+0100
TZNAME:CET
DTSTART:20251026T010000
END:STANDARD
END:VTIMEZONE
BEGIN:VEVENT
DTSTART;TZID=Europe/Paris:20241018T200000
DTEND;TZID=Europe/Paris:20241018T200000
DTSTAMP:20260421T141609
CREATED:20241003T211409Z
LAST-MODIFIED:20241003T212029Z
UID:3272-1729281600-1729281600@lepoche.be
SUMMARY:Vendredi 18 octobre - Impro : Tout ce qui se passe dans le petit écran !
DESCRIPTION:Préparez-vous à une soirée explosive d’improvisation théâtrale avec La Troupe Carbone ! \nCe spectacle unique vous plongera dans l’univers coloré et décalé de la télévision\, des années passées à aujourd’hui. \nNous vous invitons à explorer tous les aspects de ce petit écran qui influence tant nos vies : des sitcoms cultes aux émissions de téléréalité\, des séries dramatiques aux jeux télévisés délirants\, rien n’échappera à notre regard affûté. \nAvec humour et une bonne dose de satire\, nos improvisateurs s’approprieront les clichés\, les tendances et les moments mémorables de l’histoire de la télévision. \nAttendez-vous à des sketches imprévisibles où la folie et la créativité seront les maitres mots. \nQue vous soyez nostalgique des années 80\, accro aux séries contemporaines ou amateur de programmes loufoques\, notre troupe saura capturer l’essence de chaque époque pour vous offrir un spectacle hilarant et captivant. \nVenez vibrer au rythme des éclats de rire et laissez-vous emporter par l’improvisation\, car tout peut arriver devant cet écran magique ! \nAvec La Troupe Carbone\, la télé n’a jamais été aussi vivante ! \nNe manquez pas ce rendez-vous\, car qui sait\, peut-être que quelque chose d’incroyable se passera sur scène\, comme à la 📺 ! \nInfos & réservations : \n✉  contact@latroupecarbone.be \n☎  0494/399.449 \nBilletterie : https://latroupecarbone.be/reservations/ \nTarifs:\nNormal : 10€ / Seniors & étudiants : 8€ / Moins de 12 ans : 5€ / Article 27
URL:https://lepoche.be/agenda/vendredi-18-octobre-impro-tout-ce-qui-se-passe-dans-le-petit-ecran/
LOCATION:Le Poche Théâtre\, Rue du Fort\, 70\, Charleroi\, Hainaut\, 6000\, Belgique
CATEGORIES:Improvisation
ATTACH;FMTTYPE=image/jpeg:https://lepoche.be/wp-content/uploads/2024/10/carbone_750.jpg
ORGANIZER;CN="La troupe Carbone":MAILTO:contact@latroupecarbone.be
END:VEVENT
END:VCALENDAR