BEGIN:VCALENDAR
VERSION:2.0
PRODID:-// - ECPv6.15.20//NONSGML v1.0//EN
CALSCALE:GREGORIAN
METHOD:PUBLISH
X-ORIGINAL-URL:https://lepoche.be
X-WR-CALDESC:Évènements pour 
REFRESH-INTERVAL;VALUE=DURATION:PT1H
X-Robots-Tag:noindex
X-PUBLISHED-TTL:PT1H
BEGIN:VTIMEZONE
TZID:Europe/Paris
BEGIN:DAYLIGHT
TZOFFSETFROM:+0100
TZOFFSETTO:+0200
TZNAME:CEST
DTSTART:20240331T010000
END:DAYLIGHT
BEGIN:STANDARD
TZOFFSETFROM:+0200
TZOFFSETTO:+0100
TZNAME:CET
DTSTART:20241027T010000
END:STANDARD
BEGIN:DAYLIGHT
TZOFFSETFROM:+0100
TZOFFSETTO:+0200
TZNAME:CEST
DTSTART:20250330T010000
END:DAYLIGHT
BEGIN:STANDARD
TZOFFSETFROM:+0200
TZOFFSETTO:+0100
TZNAME:CET
DTSTART:20251026T010000
END:STANDARD
BEGIN:DAYLIGHT
TZOFFSETFROM:+0100
TZOFFSETTO:+0200
TZNAME:CEST
DTSTART:20260329T010000
END:DAYLIGHT
BEGIN:STANDARD
TZOFFSETFROM:+0200
TZOFFSETTO:+0100
TZNAME:CET
DTSTART:20261025T010000
END:STANDARD
END:VTIMEZONE
BEGIN:VEVENT
DTSTART;TZID=Europe/Paris:20251023T200000
DTEND;TZID=Europe/Paris:20251023T200000
DTSTAMP:20260419T183421
CREATED:20250927T111526Z
LAST-MODIFIED:20250927T111526Z
UID:3882-1761249600-1761249600@lepoche.be
SUMMARY:Jeudi 23 octobre - Impro : La Bataille des Planètes - PLUTON vs MARS
DESCRIPTION:LA BATAILLE DES PLANÈTES ! \n2ème round : PLUTON vs MARS ! \n4 planètes. 28 jouteurs. Une seule coupe légendaire à décrocher : la Coupe Désastre ! \nLe nouveau championnat Improcarolo débarque sur Terre pour une saison galactique pleine de rebondissements\, de fous rires… et de chaos intersidéral. \nQui dominera l’univers de l’impro ? À toi de venir juger. Le pouvoir du public sera… décisif. \nAchetez vos billets en ligne :\nVente de billets en ligne
URL:https://lepoche.be/agenda/jeudi-23-octobre-impro-la-bataille-des-planetes-pluton-vs-mars/
LOCATION:Le Poche Théâtre\, Rue du Fort\, 70\, Charleroi\, Hainaut\, 6000\, Belgique
CATEGORIES:Improvisation
ATTACH;FMTTYPE=image/jpeg:https://lepoche.be/wp-content/uploads/2025/09/bataille_750.jpg
ORGANIZER;CN="Improcarolo":MAILTO:contact@improcarolo.be
END:VEVENT
END:VCALENDAR