BEGIN:VCALENDAR
VERSION:2.0
PRODID:-// - ECPv6.15.20//NONSGML v1.0//EN
CALSCALE:GREGORIAN
METHOD:PUBLISH
X-ORIGINAL-URL:https://lepoche.be
X-WR-CALDESC:Évènements pour 
REFRESH-INTERVAL;VALUE=DURATION:PT1H
X-Robots-Tag:noindex
X-PUBLISHED-TTL:PT1H
BEGIN:VTIMEZONE
TZID:Europe/Paris
BEGIN:DAYLIGHT
TZOFFSETFROM:+0100
TZOFFSETTO:+0200
TZNAME:CEST
DTSTART:20200329T010000
END:DAYLIGHT
BEGIN:STANDARD
TZOFFSETFROM:+0200
TZOFFSETTO:+0100
TZNAME:CET
DTSTART:20201025T010000
END:STANDARD
BEGIN:DAYLIGHT
TZOFFSETFROM:+0100
TZOFFSETTO:+0200
TZNAME:CEST
DTSTART:20210328T010000
END:DAYLIGHT
BEGIN:STANDARD
TZOFFSETFROM:+0200
TZOFFSETTO:+0100
TZNAME:CET
DTSTART:20211031T010000
END:STANDARD
BEGIN:DAYLIGHT
TZOFFSETFROM:+0100
TZOFFSETTO:+0200
TZNAME:CEST
DTSTART:20220327T010000
END:DAYLIGHT
BEGIN:STANDARD
TZOFFSETFROM:+0200
TZOFFSETTO:+0100
TZNAME:CET
DTSTART:20221030T010000
END:STANDARD
END:VTIMEZONE
BEGIN:VEVENT
DTSTART;TZID=Europe/Paris:20210916T203000
DTEND;TZID=Europe/Paris:20210919T150000
DTSTAMP:20260425T131845
CREATED:20210812T081724Z
LAST-MODIFIED:20210916T130036Z
UID:1087-1631824200-1632063600@lepoche.be
SUMMARY:Du 16 au 19 septembre - Théâtre : Et sous l'écume\, on voit la mer
DESCRIPTION:Création et interprétation: Laurent DAUVILLEE & Lola DESTERCQ \nEntrez au coeur d’une fable drôle et poétique où se joue l’enjeux de la rencontre entre deux humains. Quelque part\, ailleurs\, entre ici et là-bas\, Mathieu et Mathilde finiront-ils par se rencontrer ?\nLumières et habillages sonores se tissent avec le jeu burlesque des corps et des émotions\, … Un voyage au-delà des cloisons mentales et réelles\, que l’on monte parfois soi-même. Sans kit. Un travail à mi-chemin entre la chorégraphie des émotions\, le gag clownesque\, l’horlogerie des rythmes et le lâcher-prise des corps.\nUn spectacle où les « petites différences » tissent de grands ponts. En prime\, profitez du plongeon dans les 70′ !\nUn spectacle résolument drôle\, léger et savoureux. \n16>18 septembre à 20h30.\nLe dimanche 19 septembre à 15h. \nInfos et réservations : 0494/ 82 24 66 – impact.cie@outlook.be \n14€ (adultes)- 12€ (prévente)\n12€ (étudiants\, + 65 ans)- 10€ (prévente)\n10€ (comédiens) \nLe spectacle fait également partie de l’abonnement du Poche 2021-2022. \nUn spectacle proposé par la Cie Imp-Act.\nLes coeurs battants du projet : Laurent DAUVILLEE et Lola DESTERCQ\nLa vue et l’ouïe du spectacle : Jean-François DELVIN\nLa fée du projet : Anne BERGER\nLes couleurs sur le papier : Emmeline VERMEIREN\nLes fils dans le tissu : Marie DETOURNAY\nLes pieds qui claquent : Laurence GREGOIRE\nLes voix : Antoine VANDENBERGHE\, Jean-François DELVIN\nLa porte ouverte : Bernard BAUDAUX
URL:https://lepoche.be/agenda/du-16-au-19-septembre-theatre-et-sous-lecume-on-voit-la-mer/
LOCATION:Le Poche Théâtre\, Rue du Fort\, 70\, Charleroi\, Hainaut\, 6000\, Belgique
CATEGORIES:Théâtre
ATTACH;FMTTYPE=image/gif:https://lepoche.be/wp-content/uploads/2021/08/affiche-sous-lecume-ok.gif
ORGANIZER;CN="Imp-Act":MAILTO:impact.cie@outlook.be
END:VEVENT
END:VCALENDAR