BEGIN:VCALENDAR
VERSION:2.0
PRODID:-// - ECPv6.15.20//NONSGML v1.0//EN
CALSCALE:GREGORIAN
METHOD:PUBLISH
X-ORIGINAL-URL:https://lepoche.be
X-WR-CALDESC:Évènements pour 
REFRESH-INTERVAL;VALUE=DURATION:PT1H
X-Robots-Tag:noindex
X-PUBLISHED-TTL:PT1H
BEGIN:VTIMEZONE
TZID:Europe/Paris
BEGIN:DAYLIGHT
TZOFFSETFROM:+0100
TZOFFSETTO:+0200
TZNAME:CEST
DTSTART:20210328T010000
END:DAYLIGHT
BEGIN:STANDARD
TZOFFSETFROM:+0200
TZOFFSETTO:+0100
TZNAME:CET
DTSTART:20211031T010000
END:STANDARD
BEGIN:DAYLIGHT
TZOFFSETFROM:+0100
TZOFFSETTO:+0200
TZNAME:CEST
DTSTART:20220327T010000
END:DAYLIGHT
BEGIN:STANDARD
TZOFFSETFROM:+0200
TZOFFSETTO:+0100
TZNAME:CET
DTSTART:20221030T010000
END:STANDARD
BEGIN:DAYLIGHT
TZOFFSETFROM:+0100
TZOFFSETTO:+0200
TZNAME:CEST
DTSTART:20230326T010000
END:DAYLIGHT
BEGIN:STANDARD
TZOFFSETFROM:+0200
TZOFFSETTO:+0100
TZNAME:CET
DTSTART:20231029T010000
END:STANDARD
END:VTIMEZONE
BEGIN:VEVENT
DTSTART;TZID=Europe/Paris:20220428T200000
DTEND;TZID=Europe/Paris:20220501T150000
DTSTAMP:20260425T001918
CREATED:20210904T135411Z
LAST-MODIFIED:20220404T225006Z
UID:1258-1651176000-1651417200@lepoche.be
SUMMARY:Du 28 avril au 1er mai - Théâtre : Molière se rebelle
DESCRIPTION:Le jour de l’inauguration du château de Versailles\, Louis XIV\, entouré de ses artistes préférés\, le musicien Lully\, Pierre Corneille\, Jean Racine\, Madame de la Fayette\, Blaise Pascal\, de la Fontaine\, de la Bruyère\, invite la Cour à accueillir Molière\, ce dernier lui ayant demandé audience pour réciter quelques vers. \nPour faire honneur au grand Racine\, Molière choisit de présenter un extrait de Phèdre. Ses comédiennes sont arrêtées dans leur élan par le Roi Soleil qui ne peut endurer plus longtemps leur prestation\, trop naturelle\, trop peu passionnée et douloureuse. \nSur l’invitation de Molière\, Louis\, grand amateur d’art\, se prête lui-même à l’exercice pour montrer l’exemple. \nAvant de prendre congé\, Molière demande la permission de faire entendre quelques vers de sa composition. Permission accordée\, sa troupe présente alors son nouveau spectacle… \nLe spectacle est un assemblage de textes\, en prose et en alexandrin\, tirés de différentes œuvres de Molière\, qui s’imbriquent les uns aux autres\, telles les pièces d’un puzzle\, et fusionnent grâce à la plume de Sarah Hennecart\, auteure du spectacle\, afin de raconter les péripéties de personnages typiquement moliériens. \nCette création originale est portée par la Compagnie du ClairObscur\, avec le soutien du Poche Théâtre\, de la Ville de Charleroi et de la Fédération Wallonie-Bruxelles\, et elle trouve son origine au sein d’un projet pédagogique plus large nommé ART-Sème. \n\nReprésentations scolaires du 26 au 29 avril 2022 !\n\nAttention\, 3 séances sur les 6 sont déjà complètes !!! \n\nReprésentations tout public du 28 avril au 1er mai 2022 !\n\nInfos et réservations :\n0494/40.34.34\nwww.clairobscurtheatre.be
URL:https://lepoche.be/agenda/du-28-avril-au-1er-mai-theatre-moliere-se-rebelle/
LOCATION:Le Poche Théâtre\, Rue du Fort\, 70\, Charleroi\, Hainaut\, 6000\, Belgique
CATEGORIES:Scolaire,Théâtre
ATTACH;FMTTYPE=image/png:https://lepoche.be/wp-content/uploads/2021/09/Moliere-se-rebelle-FINAL_750.png
ORGANIZER;CN="La compagnie du ClairObscur":MAILTO:info@clairobscurtheatre.be
END:VEVENT
BEGIN:VEVENT
DTSTART;TZID=Europe/Paris:20220504T193000
DTEND;TZID=Europe/Paris:20220504T193000
DTSTAMP:20260425T001918
CREATED:20220426T101940Z
LAST-MODIFIED:20220503T142446Z
UID:1730-1651692600-1651692600@lepoche.be
SUMMARY:Mercredi 4 mai - Shaw case #4
DESCRIPTION:Projet initié par l’Athénée Royal Vauban\, en collaboration avec le conservatoire Arthur Grumiaux. \nUn spectacle mélangeant théâtre\, danse\, improvisation et humour pour une soirée en toute simplicité\, à la découverte de jeunes talents. \nTarif : 8 € \nInfos & réservations : \ninfo@lepoche.be \n0493/766.755 \nRéservations avec paiement à l’avance sur le compte BE11 7320 4914 9648 au nom de BUZZ RECORDS SRL (propriétaire du théâtre) avec la communication « SHOW CASE 04/05/2022 »
URL:https://lepoche.be/agenda/mercredi-4-mai-shaw-case-4/
LOCATION:Le Poche Théâtre\, Rue du Fort\, 70\, Charleroi\, Hainaut\, 6000\, Belgique
CATEGORIES:Concert,Théâtre
ATTACH;FMTTYPE=image/png:https://lepoche.be/wp-content/uploads/2022/04/SHOW-CASE-4_750-sold.png
ORGANIZER;CN="Le Poche":MAILTO:info@lepoche.be
END:VEVENT
BEGIN:VEVENT
DTSTART;TZID=Europe/Paris:20220513T203000
DTEND;TZID=Europe/Paris:20220521T203000
DTSTAMP:20260425T001918
CREATED:20210814T123336Z
LAST-MODIFIED:20220509T135133Z
UID:1135-1652473800-1653165000@lepoche.be
SUMMARY:Les 13\, 14\, 15\, 19\, 20 et 21 mai - Théâtre : Cyrano de Bergerac
DESCRIPTION:Cyrano est un mousquetaire gascon intrépide\, appartenant à la compagnie des Cadets de Gascogne.\nBouillonnant et inspiré\, noble de cœur et courageux\, la main sur l’épée et la parole insolente\, Cyrano de Bergerac se reconnaît à son nez\, sa cape et son chapeau.\nIl est amoureux de sa cousine Roxane mais n’ose pas se déclarer car Roxane est belle et il est laid. Par amour pour elle\, désespéré\, il accepte de protéger son rival Christian et va même jusqu’à l’aider à séduire Roxane en lui prêtant ses mots.\nHymne au théâtre\, à l’humanisme militant et au beau parler\, Cyrano de Bergerac est une pièce pleine d’humour\, de tendresse\, d’émotion et de poésie. d’après l’oeuvre d’Edmond Rostand. \nDans une mise en scène d’Emmanuel GUILLAUME \nAvec: Olivier CLEMENT- Thomas GOMREE- Frédérix RATAZZI- Daniel BURKEL – Vivien CHARLIER – Bruno SAUVAGE – Aurielle MOUSTY – Annick DUFOUR – Christine MICHEL \nDates: 13\, 14\, 15 et 19\, 20\, 21 mai 2022\nHoraire: J: 19h30 / V-S: 20h30 / D: 15h00 \nTarifs: 14€/12€ (pré-vente) / -26ans et +65ans: 12€/10€ (prévente) -12ans: gratuit\nCompte: BE20 6116 4254 6056\nRéservations: 0491/280.220 – info@comedia-77.be \nLe tarif pré-vente est d’application uniquement lorsque l’argent de la réservation est versé sur le compte avant la représentation.\nEn cas de salle complète\, 5 minutes avant le début du spectacle\, nous nous réservons le droit de redistribuer votre réservation si vous ne vous êtes pas encore présenté à la billetterie. \nLe spectacle fait également partie de l’abonnement du Poche 2021-2022.
URL:https://lepoche.be/agenda/les-13-14-15-19-20-et-21-mai-theatre-cyrano-de-bergerac/
LOCATION:Le Poche Théâtre\, Rue du Fort\, 70\, Charleroi\, Hainaut\, 6000\, Belgique
CATEGORIES:Théâtre
ATTACH;FMTTYPE=image/jpeg:https://lepoche.be/wp-content/uploads/2021/08/cyrano_full_750.jpg
ORGANIZER;CN="Com%C3%A9dia 77":MAILTO:info@comedia-77.be
END:VEVENT
END:VCALENDAR