BEGIN:VCALENDAR
VERSION:2.0
PRODID:-// - ECPv6.15.20//NONSGML v1.0//EN
CALSCALE:GREGORIAN
METHOD:PUBLISH
X-ORIGINAL-URL:https://lepoche.be
X-WR-CALDESC:Évènements pour 
REFRESH-INTERVAL;VALUE=DURATION:PT1H
X-Robots-Tag:noindex
X-PUBLISHED-TTL:PT1H
BEGIN:VTIMEZONE
TZID:Europe/Paris
BEGIN:DAYLIGHT
TZOFFSETFROM:+0100
TZOFFSETTO:+0200
TZNAME:CEST
DTSTART:20220327T010000
END:DAYLIGHT
BEGIN:STANDARD
TZOFFSETFROM:+0200
TZOFFSETTO:+0100
TZNAME:CET
DTSTART:20221030T010000
END:STANDARD
BEGIN:DAYLIGHT
TZOFFSETFROM:+0100
TZOFFSETTO:+0200
TZNAME:CEST
DTSTART:20230326T010000
END:DAYLIGHT
BEGIN:STANDARD
TZOFFSETFROM:+0200
TZOFFSETTO:+0100
TZNAME:CET
DTSTART:20231029T010000
END:STANDARD
BEGIN:DAYLIGHT
TZOFFSETFROM:+0100
TZOFFSETTO:+0200
TZNAME:CEST
DTSTART:20240331T010000
END:DAYLIGHT
BEGIN:STANDARD
TZOFFSETFROM:+0200
TZOFFSETTO:+0100
TZNAME:CET
DTSTART:20241027T010000
END:STANDARD
END:VTIMEZONE
BEGIN:VEVENT
DTSTART;TZID=Europe/Paris:20230609T203000
DTEND;TZID=Europe/Paris:20230610T203000
DTSTAMP:20260420T024612
CREATED:20230418T071855Z
LAST-MODIFIED:20230607T132641Z
UID:2268-1686342600-1686429000@lepoche.be
SUMMARY:Les 9 et 10 juin - Théâtre : Mariés sur le tarmac - Saison 2
DESCRIPTION:Frédéric et Marie ne se connaissent pas\, ils se rencontrent dans l’émission « Mariés sur le tarmac ». \nDes tests scientifiques les reconnaissent compatibles à 85%. \nIls doivent se marier sur le tarmac d’un aéroport pour ensuite partir en voyage de noces. \nFrédéric refuse cependant de prendre l’avion à cause d’une empreinte carbone bien trop élevée\, mais notre homme a une solution : ils voyageront en péniche. \nLe soir de la nuit de noces\, un événement inattendu va bouleverser Frédéric et sa perception de la vie : il va rencontrer Gunter Pauli\, le père de l’économie bleue. \nIl s’en suivra une crise entre Frédéric qui change subitement de comportement et Marie\, complètement perdue face à la nouvelle mission de vie de son mari. \nDeux semaines plus tard\, l’émission doit faire le point sur l’expérience amoureuse de chacun des deux époux. Sont-ils réellement compatibles ? \n \nBuzz Radio · Interview : ‘Mariés sur le tarmac – Saison 2’ (10/05/23)\n  \nLa presse en parle : https://www.rtbf.be/article/maries-sur-le-tarmac-une-comedie-ecolo-romantique-au-poche-theatre-de-charleroi-11181273 \nBilletterie : https://www.billetweb.fr/maries-sur-le-tarmac-saison-2 \nTarifs:\nNormal : 20€ / Seniors & artistes : 15€ / Groupe : 14€ / Ecole : 9€ \nSite de la compagnie \nFacebook : https://www.facebook.com/Haupstudioo
URL:https://lepoche.be/agenda/les-9-et-10-juin-theatre-maries-sur-le-tarmac-saison-2/
LOCATION:Le Poche Théâtre\, Rue du Fort\, 70\, Charleroi\, Hainaut\, 6000\, Belgique
CATEGORIES:Théâtre
ATTACH;FMTTYPE=image/jpeg:https://lepoche.be/wp-content/uploads/2023/04/MARIES_750.jpg
ORGANIZER;CN="Le Poche":MAILTO:info@lepoche.be
END:VEVENT
BEGIN:VEVENT
DTSTART;TZID=Europe/Paris:20230623T203000
DTEND;TZID=Europe/Paris:20230625T150000
DTSTAMP:20260420T024612
CREATED:20210904T151656Z
LAST-MODIFIED:20230601T150258Z
UID:1329-1687552200-1687705200@lepoche.be
SUMMARY:Du 23 au 25 juin - Théâtre : Magie en Fa Majeur
DESCRIPTION:La C Compagnie revient avec du beau\, du frais\, du poétique! \nMagie en Fa Majeur est un spectacle sensible pour toute la famille. Pas de blabla… que de l’émotion dans ce show magique et musical. \nSeul dans la rue\, Lui rêve de scène\, des feux des projecteurs et de magie. Quand il gratte son allumette\, il plonge dans ce joli songe et y rencontre Elle. Elégante et franche\, elle va\, avec son piano\, rencontrer Lui qui lui répondra par sa magie. Mais le songe peut-il durer éternellement ? L’hivers approche. \nNote contre foulard. \nTriolets et cartes. \nPartitions dansant avec baguette magique. \nCette rencontre humaine vous touchera ! \nInfos & réservations : \n✉  christophe14maison@gmail.com \n☎  0471/41.82.26 \nTarifs:\nNormal : 14€  /  Moins de 26 ans & retraités : 10€
URL:https://lepoche.be/agenda/du-23-au-25-juin-theatre-magie-en-fa-majeur/
LOCATION:Le Poche Théâtre\, Rue du Fort\, 70\, Charleroi\, Hainaut\, 6000\, Belgique
CATEGORIES:Théâtre
ATTACH;FMTTYPE=image/jpeg:https://lepoche.be/wp-content/uploads/2021/09/magie2_750.jpg
END:VEVENT
END:VCALENDAR