BEGIN:VCALENDAR
VERSION:2.0
PRODID:-// - ECPv6.15.20//NONSGML v1.0//EN
CALSCALE:GREGORIAN
METHOD:PUBLISH
X-ORIGINAL-URL:https://lepoche.be
X-WR-CALDESC:Évènements pour 
REFRESH-INTERVAL;VALUE=DURATION:PT1H
X-Robots-Tag:noindex
X-PUBLISHED-TTL:PT1H
BEGIN:VTIMEZONE
TZID:Europe/Paris
BEGIN:DAYLIGHT
TZOFFSETFROM:+0100
TZOFFSETTO:+0200
TZNAME:CEST
DTSTART:20220327T010000
END:DAYLIGHT
BEGIN:STANDARD
TZOFFSETFROM:+0200
TZOFFSETTO:+0100
TZNAME:CET
DTSTART:20221030T010000
END:STANDARD
BEGIN:DAYLIGHT
TZOFFSETFROM:+0100
TZOFFSETTO:+0200
TZNAME:CEST
DTSTART:20230326T010000
END:DAYLIGHT
BEGIN:STANDARD
TZOFFSETFROM:+0200
TZOFFSETTO:+0100
TZNAME:CET
DTSTART:20231029T010000
END:STANDARD
BEGIN:DAYLIGHT
TZOFFSETFROM:+0100
TZOFFSETTO:+0200
TZNAME:CEST
DTSTART:20240331T010000
END:DAYLIGHT
BEGIN:STANDARD
TZOFFSETFROM:+0200
TZOFFSETTO:+0100
TZNAME:CET
DTSTART:20241027T010000
END:STANDARD
END:VTIMEZONE
BEGIN:VEVENT
DTSTART;TZID=Europe/Paris:20231202T200000
DTEND;TZID=Europe/Paris:20231222T200000
DTSTAMP:20260419T170223
CREATED:20230823T181930Z
LAST-MODIFIED:20240730T193057Z
UID:2438-1701547200-1703275200@lepoche.be
SUMMARY:Les 2\, 3\, 7\, 8\, 9\, 10\, 15\, 17\, 21 et 22 décembre - Théâtre : Tout ça ne nous rendra pas Noël
DESCRIPTION:Un réveillon de Noël qui tourne au règlement de comptes\, est-ce possible ? \nImaginez une famille aisée\, Bobo et progressiste\, qui décide de fêter Noël « en toute simplicité ».  Les cadeaux\, notamment\, ne devront pas excéder un budget de 5€. Ils seront anonymement déposés sous le sapin et piochés au hasard par les convives. Parmi ces derniers\, une invitée « surprise » : Ariane. Elle est sublime\, intelligente\, déroutante et… afro-descendante. \nLe moment de s’offrir les cadeaux venu\, Ariane reçoit une BD. Il s’agit d’une vieille édition de «Tintin au Congo»\, héritage de Papy Édouard enterré le matin-même. \nVous devinez la suite ? \nAjoutez à cela des idées socio-éthico-écologico-politiques opposées et des rancœurs du passé\, vous obtenez tous les ingrédients d’une soirée explosive ! \nVenez découvrir ce texte drôle\, caustique\, choquant qui se moque avec intelligence et humour de nos hypocrisies mesquines et de nos familles imparfaites. \nCette comédie grinçante\, signée Albert Maizel\, a connu un succès retentissant\, en 2021 et 2022\, au Théâtre de la Toison d’Or à Bruxelles. \nUne production du Poche Théâtre\, mise en scène par Sarah Hennecart. \nDistribution : \n\nAlexine De Cooman\nArnaud Lixon\nFabrice Jack\nAntonin Delahaye\nSarah Hennecart\nChristophe Jasinski\n\nTarif: \nPrévente: 16€ / Sur place: 18€ \nUn verre de vin chaud maison ou de jus d’orange inclus 😉 \nLe spectacle fait également partie de l’abonnement du Poche 2023-2024. \nAchetez vos billets en ligne :\nVente de billets en ligne
URL:https://lepoche.be/agenda/les-2-3-7-8-9-10-14-15-17-21-et-22-decembre-theatre-tout-ca-ne-nous-rendra-pas-noel/
LOCATION:Le Poche Théâtre\, Rue du Fort\, 70\, Charleroi\, Hainaut\, 6000\, Belgique
CATEGORIES:Théâtre
ATTACH;FMTTYPE=image/png:https://lepoche.be/wp-content/uploads/2023/08/Tout-ca_750_sold.png
ORGANIZER;CN="Le Poche":MAILTO:info@lepoche.be
END:VEVENT
BEGIN:VEVENT
DTSTART;TZID=Europe/Paris:20231226T200000
DTEND;TZID=Europe/Paris:20231230T200000
DTSTAMP:20260419T170223
CREATED:20231102T145258Z
LAST-MODIFIED:20240730T193012Z
UID:2610-1703620800-1703966400@lepoche.be
SUMMARY:Du 26 au 30 décembre - Théâtre : Le Père Noël est une ordure
DESCRIPTION:Ce classique revisité par Le Clandestin de Nivelles vous plongera dans la nostalgie de ce monument théâtral où on ne cesse de rire avec une haleine de cannelle.\nSi vous l’avez déjà vu\, revenez\, parce que c’est pas la même chose. \nUn soir de Noël\, à la permanence téléphonique parisienne de l’association « SOS Détresse Amitié »\, des bénévoles sont perturbés par l’arrivée de personnages marginaux et farfelus\, qui provoquent des catastrophes en chaîne. \nMise en scène : Dany Marbaix. \nInterprète(s) : Joël Drygalski\, Jean-Michel Van De Cauter\, Didier & Quentin Style\, Chantal Moiset\, et Dominique Panpan Samain. \nTarifs: \nPrévente: 12€ / Sur place: 15€ \nAchetez vos billets en ligne :\nVente de billets en ligne
URL:https://lepoche.be/agenda/du-26-au-30-decembre-theatre-le-pere-noel-est-une-ordure/
LOCATION:Le Poche Théâtre\, Rue du Fort\, 70\, Charleroi\, Hainaut\, 6000\, Belgique
CATEGORIES:Théâtre
ATTACH;FMTTYPE=image/png:https://lepoche.be/wp-content/uploads/2023/11/pere-noel_750.png
ORGANIZER;CN="Le Poche":MAILTO:info@lepoche.be
END:VEVENT
END:VCALENDAR