BEGIN:VCALENDAR
VERSION:2.0
PRODID:-// - ECPv6.15.20//NONSGML v1.0//EN
CALSCALE:GREGORIAN
METHOD:PUBLISH
X-ORIGINAL-URL:https://lepoche.be
X-WR-CALDESC:Évènements pour 
REFRESH-INTERVAL;VALUE=DURATION:PT1H
X-Robots-Tag:noindex
X-PUBLISHED-TTL:PT1H
BEGIN:VTIMEZONE
TZID:Europe/Paris
BEGIN:DAYLIGHT
TZOFFSETFROM:+0100
TZOFFSETTO:+0200
TZNAME:CEST
DTSTART:20230326T010000
END:DAYLIGHT
BEGIN:STANDARD
TZOFFSETFROM:+0200
TZOFFSETTO:+0100
TZNAME:CET
DTSTART:20231029T010000
END:STANDARD
BEGIN:DAYLIGHT
TZOFFSETFROM:+0100
TZOFFSETTO:+0200
TZNAME:CEST
DTSTART:20240331T010000
END:DAYLIGHT
BEGIN:STANDARD
TZOFFSETFROM:+0200
TZOFFSETTO:+0100
TZNAME:CET
DTSTART:20241027T010000
END:STANDARD
BEGIN:DAYLIGHT
TZOFFSETFROM:+0100
TZOFFSETTO:+0200
TZNAME:CEST
DTSTART:20250330T010000
END:DAYLIGHT
BEGIN:STANDARD
TZOFFSETFROM:+0200
TZOFFSETTO:+0100
TZNAME:CET
DTSTART:20251026T010000
END:STANDARD
END:VTIMEZONE
BEGIN:VEVENT
DTSTART;TZID=Europe/Paris:20240118T200000
DTEND;TZID=Europe/Paris:20240121T150000
DTSTAMP:20260419T152924
CREATED:20230912T221154Z
LAST-MODIFIED:20240730T192857Z
UID:2568-1705608000-1705849200@lepoche.be
SUMMARY:Du 18 au 21 janvier - Théâtre : Un grand cri d'amour
DESCRIPTION:Alors qu’une pièce de théâtre risque de tomber à l’eau à la suite de l’absence imprévue d’une actrice\, le metteur en scène se retrouve seul face à deux personnes avec lesquelles les répétitions vont vite devenir un enfer\, pendant que le producteur met au point une série de combines plus horribles les unes que les autres afin de pouvoir assurer la promotion de sa pièce sur un coup médiatique… \nEvidemment\, rien ne se passera comme dans la vraie vie ! ni même dans la fausse d’ailleurs ! \nAvec un final jamais vu nulle part ailleurs\, ce classique de Josiane Balasko reprend toute sa saveur dans une adaptation surréaliste de Dany Marbaix. \nCie Le Clandestin Nivelles\nMise en scène : Dany Marbaix.\nInterprète(s) : Joël Drygalski\, Quentin Style\, Eric Décarpentrie\, Dominique Samain. \nTarifs: \nPrévente: 12€ / Sur place: 15€ \nLe spectacle fait également partie de l’abonnement du Poche 2023-2024. \nAchetez vos billets en ligne :\nVente de billets en ligne
URL:https://lepoche.be/agenda/du-18-au-21-janvier-theatre-un-grand-cri-damour/
LOCATION:Le Poche Théâtre\, Rue du Fort\, 70\, Charleroi\, Hainaut\, 6000\, Belgique
CATEGORIES:Théâtre
ATTACH;FMTTYPE=image/png:https://lepoche.be/wp-content/uploads/2023/09/Grand-cri_750.png
ORGANIZER;CN="Le Poche":MAILTO:info@lepoche.be
END:VEVENT
BEGIN:VEVENT
DTSTART;TZID=Europe/Paris:20240126T200000
DTEND;TZID=Europe/Paris:20240126T200000
DTSTAMP:20260419T152924
CREATED:20240114T224201Z
LAST-MODIFIED:20240730T192832Z
UID:2700-1706299200-1706299200@lepoche.be
SUMMARY:Vendredi 26 janvier - Théâtre : À la prochaine\, Mama
DESCRIPTION:Dans un décor monochrome\, léger mais percutant\, Anas nous invite à rentrer dans le tourbillon qu’est sa vie. \nUn pas en avant\, un pas en arrière\, on comprend vite que la perte de sa mère à 4 ans a bouleversé le cours de son existence. \nPourtant 22 ans après\, Anas se tient droit devant nous\, et partage à cœur ouvert son histoire\, ou plutôt son absence de repères maternels. \nDans À la prochaine\, Mama\, Anas lève le tabou de la santé mentale et l’importance d’en prendre soin. Une heure de conversation intime où lui comme nous\, se reconnecte petit à petit à ses émotions et ses souvenirs. \n« Ton histoire est tellement personnelle qu’elle en devient universelle. » \nUne vraie leçon de vie pleine d’amour et d’empathie. \nDurée : 1h – À partir de 12 ans. \nTexte : Anas ACHAÂRA\, Yasmina AHKIM\, Mehdi BOUKYOUE et Mohamed Salim HAOUACH \nSeul en scène avec : Anas ACHAÂRA \nMise en scène : Mohamed Salim HAOUACH \nRégie : Mahir Mournin \nRegards extérieurs : Mohamed OUACHEN\, Martha FITZGERALD \nScénographie : Zenel LACI \nCoproduction : Ras El Hanout / Zinnema \n \n \nBuzz Radio · Interview : À la prochaine\, Mama (24/01/24)\nTarifs : \nTarif plein: 14€ / Tarif réduit*: 9\,50€ / Article 27: 1\,25€ \n* Moins de 26 ans\, plus de 60 ans\, chercheurs d’emploi\, allocataires sociaux. \nBilletterie en ligne : https://www.billetweb.fr/off-on-le-poche-theatre \n \n 
URL:https://lepoche.be/agenda/vendredi-26-janvier-theatre-a-la-prochaine-mama/
LOCATION:Le Poche Théâtre\, Rue du Fort\, 70\, Charleroi\, Hainaut\, 6000\, Belgique
CATEGORIES:Théâtre
ATTACH;FMTTYPE=image/png:https://lepoche.be/wp-content/uploads/2024/01/mama_750.png
ORGANIZER;CN="Ras El Hanout":MAILTO:info@ras-el-hanout.be
END:VEVENT
END:VCALENDAR