BEGIN:VCALENDAR
VERSION:2.0
PRODID:-// - ECPv6.15.20//NONSGML v1.0//EN
CALSCALE:GREGORIAN
METHOD:PUBLISH
X-ORIGINAL-URL:https://lepoche.be
X-WR-CALDESC:Évènements pour 
REFRESH-INTERVAL;VALUE=DURATION:PT1H
X-Robots-Tag:noindex
X-PUBLISHED-TTL:PT1H
BEGIN:VTIMEZONE
TZID:Europe/Paris
BEGIN:DAYLIGHT
TZOFFSETFROM:+0100
TZOFFSETTO:+0200
TZNAME:CEST
DTSTART:20200329T010000
END:DAYLIGHT
BEGIN:STANDARD
TZOFFSETFROM:+0200
TZOFFSETTO:+0100
TZNAME:CET
DTSTART:20201025T010000
END:STANDARD
BEGIN:DAYLIGHT
TZOFFSETFROM:+0100
TZOFFSETTO:+0200
TZNAME:CEST
DTSTART:20210328T010000
END:DAYLIGHT
BEGIN:STANDARD
TZOFFSETFROM:+0200
TZOFFSETTO:+0100
TZNAME:CET
DTSTART:20211031T010000
END:STANDARD
BEGIN:DAYLIGHT
TZOFFSETFROM:+0100
TZOFFSETTO:+0200
TZNAME:CEST
DTSTART:20220327T010000
END:DAYLIGHT
BEGIN:STANDARD
TZOFFSETFROM:+0200
TZOFFSETTO:+0100
TZNAME:CET
DTSTART:20221030T010000
END:STANDARD
END:VTIMEZONE
BEGIN:VEVENT
DTSTART;TZID=Europe/Paris:20211014T203000
DTEND;TZID=Europe/Paris:20211014T213000
DTSTAMP:20260425T132057
CREATED:20210904T143620Z
LAST-MODIFIED:20220907T164512Z
UID:1255-1634243400-1634247000@lepoche.be
SUMMARY:Jeudi 14 octobre - Théâtre : Courts-circuits
DESCRIPTION:En 2038\, dans un monde où les émissions de CO2 sont réglementées et contrôlées\, un inspecteur enquête sur un trafic d’hydrocarbure.\nUn soir\, alors que Luc s’apprête à aller dormir\, les lumières et tous les appareils s’éteignent brusquement.\nDans une galaxie lointaine\, deux savants donnent une conférence enthousiasmée sur l’espèce humaine. \nComme une série de science fiction\, le spectacle propose trois histoires courtes et distinctes autour de l’énergie et de l’environnement. \nDurée : 45 min\nMise en scène : Eglantine Wéry\nTexte : Raphaël Sentjens\nInterprétation : William Clobus et Jordan Marty \nInfos & réservations : \ninfo @lepoche.be \n0493/766.755 \nRéservations avec paiement à l’avance sur le compte BE11 7320 4914 9648 au nom de BUZZ RECORDS SRL (propriétaire du théâtre) avec la communication « COURTS-CIRCUITS 14-10-2021 »
URL:https://lepoche.be/agenda/jeudi-14-octobre-theatre-courts-circuits/
LOCATION:Le Poche Théâtre\, Rue du Fort\, 70\, Charleroi\, Hainaut\, 6000\, Belgique
CATEGORIES:Enfants,Théâtre
ATTACH;FMTTYPE=image/jpeg:https://lepoche.be/wp-content/uploads/2021/09/courts-circuit.jpg
ORGANIZER;CN="Le Poche":MAILTO:info@lepoche.be
END:VEVENT
END:VCALENDAR