BEGIN:VCALENDAR
VERSION:2.0
PRODID:-// - ECPv6.15.20//NONSGML v1.0//EN
CALSCALE:GREGORIAN
METHOD:PUBLISH
X-ORIGINAL-URL:https://lepoche.be
X-WR-CALDESC:Évènements pour 
REFRESH-INTERVAL;VALUE=DURATION:PT1H
X-Robots-Tag:noindex
X-PUBLISHED-TTL:PT1H
BEGIN:VTIMEZONE
TZID:Europe/Paris
BEGIN:DAYLIGHT
TZOFFSETFROM:+0100
TZOFFSETTO:+0200
TZNAME:CEST
DTSTART:20200329T010000
END:DAYLIGHT
BEGIN:STANDARD
TZOFFSETFROM:+0200
TZOFFSETTO:+0100
TZNAME:CET
DTSTART:20201025T010000
END:STANDARD
BEGIN:DAYLIGHT
TZOFFSETFROM:+0100
TZOFFSETTO:+0200
TZNAME:CEST
DTSTART:20210328T010000
END:DAYLIGHT
BEGIN:STANDARD
TZOFFSETFROM:+0200
TZOFFSETTO:+0100
TZNAME:CET
DTSTART:20211031T010000
END:STANDARD
BEGIN:DAYLIGHT
TZOFFSETFROM:+0100
TZOFFSETTO:+0200
TZNAME:CEST
DTSTART:20220327T010000
END:DAYLIGHT
BEGIN:STANDARD
TZOFFSETFROM:+0200
TZOFFSETTO:+0100
TZNAME:CET
DTSTART:20221030T010000
END:STANDARD
END:VTIMEZONE
BEGIN:VEVENT
DTSTART;TZID=Europe/Paris:20211016T200000
DTEND;TZID=Europe/Paris:20211016T210000
DTSTAMP:20260425T132056
CREATED:20200120T223448Z
LAST-MODIFIED:20220907T164617Z
UID:652-1634414400-1634418000@lepoche.be
SUMMARY:Samedi 16 octobre - Théâtre : Luigina
DESCRIPTION:« Luigina\, c’est un peu moi\, un peu ma mère\, un peu toutes les italiennes immigrées… ».\nDurant son périple ferroviaire et à son arrivée en 1956 en Belgique\, Luigina sera confrontée aux préjugés à l’égard des Italiens\, au regard de l’autre et à la nostalgie. Le versant choisi pour raconter ce choc culturel belgo-italien est n’est pas celui des pleurs\, ce serait sans compter avec le caractère bien trempé de la narratrice. Luigina\, une vieille dame pleine d’entrain et d’humour (parfois caustique)\, dégaine le second degré et vous parle de son odyssée. S’il lui arrive de lâcher un mot un peu trop gros\, toujours elle s’en excuse. Au gré des souvenirs de sa patrie\, embarquons donc pour un Rome-Charleroi touchant\, au cours duquel l’éloge du café et des pâtes de la nonna se chantera comme un refrain ! \nInfos & réservations : \ninfo @lepoche.be \n0493/766.755 \nPrévente: 16€ / Sur place: 17€ / Moins de 12 ans: 12€ \nRéservations avec paiement à l’avance sur le compte BE11 7320 4914 9648 au nom de BUZZ RECORDS SRL (propriétaire du théâtre) avec la communication « LUIGINA 16/10/2021 » \nNB : Les réservations prises pour le 20 mars 2020 et non remboursées restent valables.
URL:https://lepoche.be/agenda/samedi-16-octobre-theatre-luigina/
LOCATION:Le Poche Théâtre\, Rue du Fort\, 70\, Charleroi\, Hainaut\, 6000\, Belgique
CATEGORIES:Théâtre
ATTACH;FMTTYPE=image/jpeg:https://lepoche.be/wp-content/uploads/2020/01/106197836_557217028302983_2462287480471251369_o-1.jpg
ORGANIZER;CN="Le Poche":MAILTO:info@lepoche.be
END:VEVENT
END:VCALENDAR