BEGIN:VCALENDAR
VERSION:2.0
PRODID:-// - ECPv6.15.20//NONSGML v1.0//EN
CALSCALE:GREGORIAN
METHOD:PUBLISH
X-ORIGINAL-URL:https://lepoche.be
X-WR-CALDESC:Évènements pour 
REFRESH-INTERVAL;VALUE=DURATION:PT1H
X-Robots-Tag:noindex
X-PUBLISHED-TTL:PT1H
BEGIN:VTIMEZONE
TZID:Europe/Paris
BEGIN:DAYLIGHT
TZOFFSETFROM:+0100
TZOFFSETTO:+0200
TZNAME:CEST
DTSTART:20200329T010000
END:DAYLIGHT
BEGIN:STANDARD
TZOFFSETFROM:+0200
TZOFFSETTO:+0100
TZNAME:CET
DTSTART:20201025T010000
END:STANDARD
BEGIN:DAYLIGHT
TZOFFSETFROM:+0100
TZOFFSETTO:+0200
TZNAME:CEST
DTSTART:20210328T010000
END:DAYLIGHT
BEGIN:STANDARD
TZOFFSETFROM:+0200
TZOFFSETTO:+0100
TZNAME:CET
DTSTART:20211031T010000
END:STANDARD
BEGIN:DAYLIGHT
TZOFFSETFROM:+0100
TZOFFSETTO:+0200
TZNAME:CEST
DTSTART:20220327T010000
END:DAYLIGHT
BEGIN:STANDARD
TZOFFSETFROM:+0200
TZOFFSETTO:+0100
TZNAME:CET
DTSTART:20221030T010000
END:STANDARD
END:VTIMEZONE
BEGIN:VEVENT
DTSTART;TZID=Europe/Paris:20211119T203000
DTEND;TZID=Europe/Paris:20211127T203000
DTSTAMP:20260425T123216
CREATED:20200930T075718Z
LAST-MODIFIED:20210815T231340Z
UID:911-1637353800-1638045000@lepoche.be
SUMMARY:Les 19\, 20\, 21\, 24\, 25\, 26 et 27 novembre - Théâtre : 8 femmes
DESCRIPTION:Le Chiche présente : « 8 femmes »\, un comédie policière de Robert Thomas\, pleine de rebondissements et de coups de théâtre!! Vivement vous retrouver pour vivre un moment de suspens!! \nMise en scène : Alain Lackner\nAvec : Stéphanie Bauduin\, Stéphanie Frère\, Aurélie Hendrickx\, Franca Menegoni\, Sabine Pennetier\, Agnès Piantadosi\, Pauline Renaux et Alexandra Verbelen \nHoraires : vendredi 19/11 20h30\, samedi 20/11 20h30\, dimanche 21/11 15h\, mercredi 24/11 ATTENTION 19h30\, jeudi 25/11 ATTENTION 19h30\, vendredi 26/11 20h30 et samedi 27/11 à 20h30. \nInfos et réservations : 0476/87.60.96 ou theatreduchiche@gmail.com \nPAF : 15euros sur place\, 12 euros en prévente\, 10 euros pour groupes de plus de 10 personnes\, étudiants et séniors de plus de 65 ans.\nCompte : BE34 1030 2919 9290 \nPrévente uniquement via versement. Le fait d’avoir réservé vos places ne fait pas office de prévente. \nLe spectacle fait également partie de l’abonnement du Poche 2021-2022.
URL:https://lepoche.be/agenda/les-19-20-21-24-25-26-et-27-novembre-theatre-8-femmes-2/
LOCATION:Le Poche Théâtre\, Rue du Fort\, 70\, Charleroi\, Hainaut\, 6000\, Belgique
CATEGORIES:Théâtre
ATTACH;FMTTYPE=image/jpeg:https://lepoche.be/wp-content/uploads/2021/08/Affiche_8-femmes_final.jpg
ORGANIZER;CN="Le Chiche Th%C3%A9%C3%A2tre":MAILTO:theatreduchiche@gmail.com
END:VEVENT
END:VCALENDAR