BEGIN:VCALENDAR
VERSION:2.0
PRODID:-// - ECPv6.15.20//NONSGML v1.0//EN
CALSCALE:GREGORIAN
METHOD:PUBLISH
X-ORIGINAL-URL:https://lepoche.be
X-WR-CALDESC:Évènements pour 
REFRESH-INTERVAL;VALUE=DURATION:PT1H
X-Robots-Tag:noindex
X-PUBLISHED-TTL:PT1H
BEGIN:VTIMEZONE
TZID:Europe/Paris
BEGIN:DAYLIGHT
TZOFFSETFROM:+0100
TZOFFSETTO:+0200
TZNAME:CEST
DTSTART:20210328T010000
END:DAYLIGHT
BEGIN:STANDARD
TZOFFSETFROM:+0200
TZOFFSETTO:+0100
TZNAME:CET
DTSTART:20211031T010000
END:STANDARD
BEGIN:DAYLIGHT
TZOFFSETFROM:+0100
TZOFFSETTO:+0200
TZNAME:CEST
DTSTART:20220327T010000
END:DAYLIGHT
BEGIN:STANDARD
TZOFFSETFROM:+0200
TZOFFSETTO:+0100
TZNAME:CET
DTSTART:20221030T010000
END:STANDARD
BEGIN:DAYLIGHT
TZOFFSETFROM:+0100
TZOFFSETTO:+0200
TZNAME:CEST
DTSTART:20230326T010000
END:DAYLIGHT
BEGIN:STANDARD
TZOFFSETFROM:+0200
TZOFFSETTO:+0100
TZNAME:CET
DTSTART:20231029T010000
END:STANDARD
END:VTIMEZONE
BEGIN:VEVENT
DTSTART;TZID=Europe/Paris:20220421T200000
DTEND;TZID=Europe/Paris:20220424T160000
DTSTAMP:20260425T033327
CREATED:20210904T152937Z
LAST-MODIFIED:20220411T141158Z
UID:1338-1650571200-1650816000@lepoche.be
SUMMARY:Du 21 au 24 avril - Théâtre : Sur le pont
DESCRIPTION:Sur Le Pont\, une comédie romantique mettant en scène de magnifiques rencontres sur un pont riche en histoires. \n \nBuzz Radio · Interview : ‘Sur le pont'(30/03/22)\n  \nInfos & réservations : \nchristophe14maison@gmail.com \n0471/41.82.26 \nTarifs:\nNormal : 14€  /  Moins de 26 ans & retraités : 10€ \n 
URL:https://lepoche.be/agenda/du-21-au-24-avril-theatre-sur-le-pont/
LOCATION:Le Poche Théâtre\, Rue du Fort\, 70\, Charleroi\, Hainaut\, 6000\, Belgique
CATEGORIES:Théâtre
ATTACH;FMTTYPE=image/gif:https://lepoche.be/wp-content/uploads/2021/09/LE-PONT-FINAL_750.gif
END:VEVENT
END:VCALENDAR