BEGIN:VCALENDAR
VERSION:2.0
PRODID:-// - ECPv6.15.20//NONSGML v1.0//EN
CALSCALE:GREGORIAN
METHOD:PUBLISH
X-ORIGINAL-URL:https://lepoche.be
X-WR-CALDESC:Évènements pour 
REFRESH-INTERVAL;VALUE=DURATION:PT1H
X-Robots-Tag:noindex
X-PUBLISHED-TTL:PT1H
BEGIN:VTIMEZONE
TZID:Europe/Paris
BEGIN:DAYLIGHT
TZOFFSETFROM:+0100
TZOFFSETTO:+0200
TZNAME:CEST
DTSTART:20220327T010000
END:DAYLIGHT
BEGIN:STANDARD
TZOFFSETFROM:+0200
TZOFFSETTO:+0100
TZNAME:CET
DTSTART:20221030T010000
END:STANDARD
BEGIN:DAYLIGHT
TZOFFSETFROM:+0100
TZOFFSETTO:+0200
TZNAME:CEST
DTSTART:20230326T010000
END:DAYLIGHT
BEGIN:STANDARD
TZOFFSETFROM:+0200
TZOFFSETTO:+0100
TZNAME:CET
DTSTART:20231029T010000
END:STANDARD
BEGIN:DAYLIGHT
TZOFFSETFROM:+0100
TZOFFSETTO:+0200
TZNAME:CEST
DTSTART:20240331T010000
END:DAYLIGHT
BEGIN:STANDARD
TZOFFSETFROM:+0200
TZOFFSETTO:+0100
TZNAME:CET
DTSTART:20241027T010000
END:STANDARD
END:VTIMEZONE
BEGIN:VEVENT
DTSTART;TZID=Europe/Paris:20230311T200000
DTEND;TZID=Europe/Paris:20230312T150000
DTSTAMP:20260420T091220
CREATED:20230201T204846Z
LAST-MODIFIED:20230306T100121Z
UID:2186-1678564800-1678633200@lepoche.be
SUMMARY:Les 11 et 12 mars - Théâtre : La femme rompue
DESCRIPTION:Peut-on davantage ressentir la solitude qu’un soir de réveillon passé seul(e)\, alors que tout le monde fait la fête dehors\, entouré de ses proches ? \nC’est en tout cas à cette occasion que Murielle va exprimer sa rage\, après l’avoir si longtemps laissé bouillonner en elle. Sa rage contre elle-même et contre tous les autres\, contre l’idée du bonheur que nous impose le monde. Une femme à qui la vie n’a pas fait de cadeaux… \nUn texte émouvant\, déstabilisant\, bouleversant\, un texte dont on se souvient longtemps après l’avoir lu ou entendu\, porté par Michelle Vercammen\, femme et actrice de caractère\, parfaite pour une interprétation qui demande tant de puissance et de profondeur. \n \nBuzz Radio · Interview : La femme rompue (06/03/23)\n  \nInfos & réservations : \n✉  info@clairobscurtheatre.be \n☎  0494/40.34.34 \nTarif : 15€  /  Moins de 26 ans : 10€ \nhttps://www.clairobscurtheatre.be
URL:https://lepoche.be/agenda/les-11-et-12-mars-theatre-la-femme-rompue/
LOCATION:Le Poche Théâtre\, Rue du Fort\, 70\, Charleroi\, Hainaut\, 6000\, Belgique
CATEGORIES:Théâtre
ATTACH;FMTTYPE=image/png:https://lepoche.be/wp-content/uploads/2023/02/La-femme-rompue_750_sold.png
ORGANIZER;CN="La compagnie du ClairObscur":MAILTO:info@clairobscurtheatre.be
END:VEVENT
END:VCALENDAR