BEGIN:VCALENDAR
VERSION:2.0
PRODID:-// - ECPv6.15.20//NONSGML v1.0//EN
CALSCALE:GREGORIAN
METHOD:PUBLISH
X-ORIGINAL-URL:https://lepoche.be
X-WR-CALDESC:Évènements pour 
REFRESH-INTERVAL;VALUE=DURATION:PT1H
X-Robots-Tag:noindex
X-PUBLISHED-TTL:PT1H
BEGIN:VTIMEZONE
TZID:Europe/Paris
BEGIN:DAYLIGHT
TZOFFSETFROM:+0100
TZOFFSETTO:+0200
TZNAME:CEST
DTSTART:20220327T010000
END:DAYLIGHT
BEGIN:STANDARD
TZOFFSETFROM:+0200
TZOFFSETTO:+0100
TZNAME:CET
DTSTART:20221030T010000
END:STANDARD
BEGIN:DAYLIGHT
TZOFFSETFROM:+0100
TZOFFSETTO:+0200
TZNAME:CEST
DTSTART:20230326T010000
END:DAYLIGHT
BEGIN:STANDARD
TZOFFSETFROM:+0200
TZOFFSETTO:+0100
TZNAME:CET
DTSTART:20231029T010000
END:STANDARD
BEGIN:DAYLIGHT
TZOFFSETFROM:+0100
TZOFFSETTO:+0200
TZNAME:CEST
DTSTART:20240331T010000
END:DAYLIGHT
BEGIN:STANDARD
TZOFFSETFROM:+0200
TZOFFSETTO:+0100
TZNAME:CET
DTSTART:20241027T010000
END:STANDARD
END:VTIMEZONE
BEGIN:VEVENT
DTSTART;TZID=Europe/Paris:20230330T203000
DTEND;TZID=Europe/Paris:20230402T150000
DTSTAMP:20260420T072532
CREATED:20220907T172930Z
LAST-MODIFIED:20230328T223346Z
UID:1906-1680208200-1680447600@lepoche.be
SUMMARY:Du 30 mars au 2 avril - Théâtre : Rafale
DESCRIPTION:C’est dans un étrange orphelinat que Raphaël atterrit à la suite d’un terrible accident. \nLe jeune garçon ne mange pas\, ni ne dort\, ni ne parle et tous ou presque s’inquiètent. \nQuand un surprenant hypnotiseur vient aider Raphaël\, il réveille quelque chose d’autre… quelque chose de dangereux. \nRaphaël devrait comprendre qui il est et ce qui l’accompagne. \nRafale… quand les contes de la crypte rencontrent un songe initiatique ! \n \nBuzz Radio · Interview : Rafale (15/03/23)\n  \nInfos & réservations : \n✉  christophe14maison@gmail.com \n☎  0471/41.82.26 \nTarifs:\nNormal : 14€  /  Moins de 26 ans & retraités : 10€
URL:https://lepoche.be/agenda/du-30-mars-au-2-avril-theatre-rafale/
LOCATION:Le Poche Théâtre\, Rue du Fort\, 70\, Charleroi\, Hainaut\, 6000\, Belgique
CATEGORIES:Théâtre
ATTACH;FMTTYPE=image/png:https://lepoche.be/wp-content/uploads/2022/09/rafale3_750.png
END:VEVENT
END:VCALENDAR