BEGIN:VCALENDAR
VERSION:2.0
PRODID:-// - ECPv6.15.20//NONSGML v1.0//EN
CALSCALE:GREGORIAN
METHOD:PUBLISH
X-ORIGINAL-URL:https://lepoche.be
X-WR-CALDESC:Évènements pour 
REFRESH-INTERVAL;VALUE=DURATION:PT1H
X-Robots-Tag:noindex
X-PUBLISHED-TTL:PT1H
BEGIN:VTIMEZONE
TZID:Europe/Paris
BEGIN:DAYLIGHT
TZOFFSETFROM:+0100
TZOFFSETTO:+0200
TZNAME:CEST
DTSTART:20220327T010000
END:DAYLIGHT
BEGIN:STANDARD
TZOFFSETFROM:+0200
TZOFFSETTO:+0100
TZNAME:CET
DTSTART:20221030T010000
END:STANDARD
BEGIN:DAYLIGHT
TZOFFSETFROM:+0100
TZOFFSETTO:+0200
TZNAME:CEST
DTSTART:20230326T010000
END:DAYLIGHT
BEGIN:STANDARD
TZOFFSETFROM:+0200
TZOFFSETTO:+0100
TZNAME:CET
DTSTART:20231029T010000
END:STANDARD
BEGIN:DAYLIGHT
TZOFFSETFROM:+0100
TZOFFSETTO:+0200
TZNAME:CEST
DTSTART:20240331T010000
END:DAYLIGHT
BEGIN:STANDARD
TZOFFSETFROM:+0200
TZOFFSETTO:+0100
TZNAME:CET
DTSTART:20241027T010000
END:STANDARD
END:VTIMEZONE
BEGIN:VEVENT
DTSTART;TZID=Europe/Paris:20230419T193000
DTEND;TZID=Europe/Paris:20230419T193000
DTSTAMP:20260420T073125
CREATED:20230406T080600Z
LAST-MODIFIED:20230406T080600Z
UID:2260-1681932600-1681932600@lepoche.be
SUMMARY:Mercredi 19 avril - Show Case : Saison 6 #4
DESCRIPTION:Projet initié par l’Athénée Royal Vauban\, en collaboration avec le conservatoire Arthur Grumiaux. \nUn spectacle mélangeant théâtre\, danse\, improvisation et humour pour une soirée en toute simplicité\, à la découverte de jeunes talents. \nTarif : 8 € \nInfos & réservations : \n✉  info@lepoche.be \n☎  0493/766.755 \nRéservations avec paiement à l’avance sur le compte BE11 7320 4914 9648 au nom de BUZZ RECORDS SRL (propriétaire du théâtre) avec la communication « SHOW CASE 19/04/2023 »
URL:https://lepoche.be/agenda/mercredi-19-avril-show-case-saison-6-4/
LOCATION:Le Poche Théâtre\, Rue du Fort\, 70\, Charleroi\, Hainaut\, 6000\, Belgique
CATEGORIES:Concert,Théâtre
ATTACH;FMTTYPE=image/jpeg:https://lepoche.be/wp-content/uploads/2023/04/showcase-6-4_750.jpg
ORGANIZER;CN="Le Poche":MAILTO:info@lepoche.be
END:VEVENT
END:VCALENDAR