BEGIN:VCALENDAR
VERSION:2.0
PRODID:-// - ECPv6.15.20//NONSGML v1.0//EN
CALSCALE:GREGORIAN
METHOD:PUBLISH
X-ORIGINAL-URL:https://lepoche.be
X-WR-CALDESC:Évènements pour 
REFRESH-INTERVAL;VALUE=DURATION:PT1H
X-Robots-Tag:noindex
X-PUBLISHED-TTL:PT1H
BEGIN:VTIMEZONE
TZID:Europe/Paris
BEGIN:DAYLIGHT
TZOFFSETFROM:+0100
TZOFFSETTO:+0200
TZNAME:CEST
DTSTART:20220327T010000
END:DAYLIGHT
BEGIN:STANDARD
TZOFFSETFROM:+0200
TZOFFSETTO:+0100
TZNAME:CET
DTSTART:20221030T010000
END:STANDARD
BEGIN:DAYLIGHT
TZOFFSETFROM:+0100
TZOFFSETTO:+0200
TZNAME:CEST
DTSTART:20230326T010000
END:DAYLIGHT
BEGIN:STANDARD
TZOFFSETFROM:+0200
TZOFFSETTO:+0100
TZNAME:CET
DTSTART:20231029T010000
END:STANDARD
BEGIN:DAYLIGHT
TZOFFSETFROM:+0100
TZOFFSETTO:+0200
TZNAME:CEST
DTSTART:20240331T010000
END:DAYLIGHT
BEGIN:STANDARD
TZOFFSETFROM:+0200
TZOFFSETTO:+0100
TZNAME:CET
DTSTART:20241027T010000
END:STANDARD
END:VTIMEZONE
BEGIN:VEVENT
DTSTART;TZID=Europe/Paris:20230421T200000
DTEND;TZID=Europe/Paris:20230422T200000
DTSTAMP:20260420T073156
CREATED:20221120T210435Z
LAST-MODIFIED:20230415T104617Z
UID:2051-1682107200-1682193600@lepoche.be
SUMMARY:Les 21 et 22 avril - Théâtre : Dommage collatéral
DESCRIPTION:Lucien est belge\, Lucienne parisienne. \nUn délicieux mélange de torchons et serviettes\, de chicons et d’endives! \nC’est leur anniversaire de mariage et Lucien l’a oublié! Encore! \nLe comble\, c’est qu’il a invité son patron\, un fin gourmet\, à dîner! \nSauf que Lucienne déteste cuisiner! \nElle se prépare à devenir serveuse dans le pub en bas de chez eux et a d’autres chats à fouetter! \nLa venue impromptue du psy d’à côté et de la belle-mère de Lucien ne va pas les aider! Que du contraire! \nCette magnifique journée va partir joyeusement en vrille et sera saupoudrée de burlesque\, de clowneries\, de danses\, de chansons et de vacheries en tout genre… \nParce que c’est ça aussi un couple au quotidien! \nMais d’ailleurs\, avons-nous réellement un couple devant nous pendant ces 89 minutes de rires et d’émotions… \nÀ vous de le découvrir avec Luc BERNARD (BERLU) et Céline ROBIN. \n \nInfos & réservations : \n✉  info@lepoche.be \n☎  0493/766.755 \nPrévente: 12€ / Sur place: 15€ / Artiste: 10€ \nRéservations avec paiement à l’avance sur le compte BE11 7320 4914 9648 au nom de BUZZ RECORDS SRL (propriétaire du théâtre) avec la communication « DOMMAGE + DATE SOUHAITEE » \nSi le spectacle n’est pas annoncé comme ‘complet’\, c’est qu’il reste des places 😉
URL:https://lepoche.be/agenda/les-21-et-22-avril-theatre-dommage-collateral/
LOCATION:Le Poche Théâtre\, Rue du Fort\, 70\, Charleroi\, Hainaut\, 6000\, Belgique
CATEGORIES:Théâtre
ATTACH;FMTTYPE=image/jpeg:https://lepoche.be/wp-content/uploads/2022/11/dommage2_750.jpg
ORGANIZER;CN="Le Poche":MAILTO:info@lepoche.be
END:VEVENT
END:VCALENDAR