BEGIN:VCALENDAR
VERSION:2.0
PRODID:-// - ECPv6.15.20//NONSGML v1.0//EN
CALSCALE:GREGORIAN
METHOD:PUBLISH
X-ORIGINAL-URL:https://lepoche.be
X-WR-CALDESC:Évènements pour 
REFRESH-INTERVAL;VALUE=DURATION:PT1H
X-Robots-Tag:noindex
X-PUBLISHED-TTL:PT1H
BEGIN:VTIMEZONE
TZID:Europe/Paris
BEGIN:DAYLIGHT
TZOFFSETFROM:+0100
TZOFFSETTO:+0200
TZNAME:CEST
DTSTART:20220327T010000
END:DAYLIGHT
BEGIN:STANDARD
TZOFFSETFROM:+0200
TZOFFSETTO:+0100
TZNAME:CET
DTSTART:20221030T010000
END:STANDARD
BEGIN:DAYLIGHT
TZOFFSETFROM:+0100
TZOFFSETTO:+0200
TZNAME:CEST
DTSTART:20230326T010000
END:DAYLIGHT
BEGIN:STANDARD
TZOFFSETFROM:+0200
TZOFFSETTO:+0100
TZNAME:CET
DTSTART:20231029T010000
END:STANDARD
BEGIN:DAYLIGHT
TZOFFSETFROM:+0100
TZOFFSETTO:+0200
TZNAME:CEST
DTSTART:20240331T010000
END:DAYLIGHT
BEGIN:STANDARD
TZOFFSETFROM:+0200
TZOFFSETTO:+0100
TZNAME:CET
DTSTART:20241027T010000
END:STANDARD
END:VTIMEZONE
BEGIN:VEVENT
DTSTART;TZID=Europe/Paris:20230427T200000
DTEND;TZID=Europe/Paris:20230430T150000
DTSTAMP:20260420T073125
CREATED:20230304T142028Z
LAST-MODIFIED:20230304T142316Z
UID:2234-1682625600-1682866800@lepoche.be
SUMMARY:Du 27 au 30 avril - Théâtre : Fugueuses
DESCRIPTION:Margot\, âgée de 40 ans\, décide de fuir le domicile familial le jour des 18 ans de sa fille\, fatiguée de ne donner qu’aux autres sans jamais penser à elle. \nEn pleine nuit\, au bord d’une nationale\, avec ses valises\, elle va faire la rencontre de Claude\, 80 ans. \nElle aussi a fugué\, mais de la maison de retraite Les Glaïeuls\, où son fils l’a placée plus ou moins pour s’en débarrasser. \nD’une rencontre houleuse entre deux autostoppeuses de générations différentes mais poursuivant le même but\, fuir un enfer pour trouver un idéal\, va naître une amitié sincère mais semée d’embûches. \nMise en scène : Annick Poulain \nDistribution : Sarah Hennecart et Tina Marzola \nInfos & réservations : \n✉  info@clairobscurtheatre.be \n☎  0494/40.34.34 \nTarif : 15€  /  Moins de 26 ans : 10€ \nhttps://www.clairobscurtheatre.be
URL:https://lepoche.be/agenda/du-27-au-30-avril-theatre-fugueuses/
LOCATION:Le Poche Théâtre\, Rue du Fort\, 70\, Charleroi\, Hainaut\, 6000\, Belgique
CATEGORIES:Théâtre
ATTACH;FMTTYPE=image/jpeg:https://lepoche.be/wp-content/uploads/2023/03/FUGUEUSES_750.jpg
ORGANIZER;CN="La compagnie du ClairObscur":MAILTO:info@clairobscurtheatre.be
END:VEVENT
END:VCALENDAR