BEGIN:VCALENDAR
VERSION:2.0
PRODID:-// - ECPv6.15.20//NONSGML v1.0//EN
CALSCALE:GREGORIAN
METHOD:PUBLISH
X-ORIGINAL-URL:https://lepoche.be
X-WR-CALDESC:Évènements pour 
REFRESH-INTERVAL;VALUE=DURATION:PT1H
X-Robots-Tag:noindex
X-PUBLISHED-TTL:PT1H
BEGIN:VTIMEZONE
TZID:Europe/Paris
BEGIN:DAYLIGHT
TZOFFSETFROM:+0100
TZOFFSETTO:+0200
TZNAME:CEST
DTSTART:20220327T010000
END:DAYLIGHT
BEGIN:STANDARD
TZOFFSETFROM:+0200
TZOFFSETTO:+0100
TZNAME:CET
DTSTART:20221030T010000
END:STANDARD
BEGIN:DAYLIGHT
TZOFFSETFROM:+0100
TZOFFSETTO:+0200
TZNAME:CEST
DTSTART:20230326T010000
END:DAYLIGHT
BEGIN:STANDARD
TZOFFSETFROM:+0200
TZOFFSETTO:+0100
TZNAME:CET
DTSTART:20231029T010000
END:STANDARD
BEGIN:DAYLIGHT
TZOFFSETFROM:+0100
TZOFFSETTO:+0200
TZNAME:CEST
DTSTART:20240331T010000
END:DAYLIGHT
BEGIN:STANDARD
TZOFFSETFROM:+0200
TZOFFSETTO:+0100
TZNAME:CET
DTSTART:20241027T010000
END:STANDARD
END:VTIMEZONE
BEGIN:VEVENT
DTSTART;TZID=Europe/Paris:20230512T203000
DTEND;TZID=Europe/Paris:20230520T203000
DTSTAMP:20260420T055707
CREATED:20220901T201937Z
LAST-MODIFIED:20221205T163832Z
UID:1880-1683923400-1684614600@lepoche.be
SUMMARY:Les 12\, 13\, 14\, 18\, 19 et 20 mai - Théâtre : Cendrillon
DESCRIPTION:À peine sortie de l’enfance\, une toute jeune fille s’est tenue au chevet de sa mère gravement malade. \nQuelques mots prononcés à mi-voix par la mourante\, dans un souffle\, et peut-être « mal entendus » par la petite et la voilà liée\, chargée de mission\, tenue à un rôle… \nQuelle marge de manœuvre lui reste-t-il pour envisager de suivre son père qui se remarie ? \nEntre marâtre et marraine\, la très jeune fille va chercher sa voie… \nUne comédi-conte de Joël POMMERAT\, dans une mise en scène de Thierry LEDENT. \nDates: 12\, 13\, 14 et 18\, 19\, 20 mai 2023\nHoraire: J: 19h30 / V-S: 20h30 / D: 15h00 \nInfos & réservations : \n✉  info@comedia-77.be \n☎  0491/280.220 \nTarifs: 14€/12€ (pré-vente) / -26ans et +65ans: 12€/10€ (pré-vente) / -12ans: gratuit\nCompte: BE20 6116 4254 6056 \nLe tarif pré-vente est d’application uniquement lorsque l’argent de la réservation est versé sur le compte avant la représentation.\nEn cas de salle complète\, 5 minutes avant le début du spectacle\, nous nous réservons le droit de redistribuer votre réservation si vous ne vous êtes pas encore présenté à la billetterie.
URL:https://lepoche.be/agenda/les-12-13-14-18-19-et-20-mai-theatre-cendrillon/
LOCATION:Le Poche Théâtre\, Rue du Fort\, 70\, Charleroi\, Hainaut\, 6000\, Belgique
CATEGORIES:Théâtre
ATTACH;FMTTYPE=image/jpeg:https://lepoche.be/wp-content/uploads/2022/09/CENDRILLON_BIS_750.jpg
ORGANIZER;CN="Com%C3%A9dia 77":MAILTO:info@comedia-77.be
END:VEVENT
END:VCALENDAR