BEGIN:VCALENDAR
VERSION:2.0
PRODID:-// - ECPv6.15.20//NONSGML v1.0//EN
CALSCALE:GREGORIAN
METHOD:PUBLISH
X-ORIGINAL-URL:https://lepoche.be
X-WR-CALDESC:Évènements pour 
REFRESH-INTERVAL;VALUE=DURATION:PT1H
X-Robots-Tag:noindex
X-PUBLISHED-TTL:PT1H
BEGIN:VTIMEZONE
TZID:Europe/Paris
BEGIN:DAYLIGHT
TZOFFSETFROM:+0100
TZOFFSETTO:+0200
TZNAME:CEST
DTSTART:20220327T010000
END:DAYLIGHT
BEGIN:STANDARD
TZOFFSETFROM:+0200
TZOFFSETTO:+0100
TZNAME:CET
DTSTART:20221030T010000
END:STANDARD
BEGIN:DAYLIGHT
TZOFFSETFROM:+0100
TZOFFSETTO:+0200
TZNAME:CEST
DTSTART:20230326T010000
END:DAYLIGHT
BEGIN:STANDARD
TZOFFSETFROM:+0200
TZOFFSETTO:+0100
TZNAME:CET
DTSTART:20231029T010000
END:STANDARD
BEGIN:DAYLIGHT
TZOFFSETFROM:+0100
TZOFFSETTO:+0200
TZNAME:CEST
DTSTART:20240331T010000
END:DAYLIGHT
BEGIN:STANDARD
TZOFFSETFROM:+0200
TZOFFSETTO:+0100
TZNAME:CET
DTSTART:20241027T010000
END:STANDARD
END:VTIMEZONE
BEGIN:VEVENT
DTSTART;TZID=Europe/Paris:20230908T200000
DTEND;TZID=Europe/Paris:20230910T160000
DTSTAMP:20260419T233618
CREATED:20230816T203311Z
LAST-MODIFIED:20240730T194010Z
UID:2383-1694203200-1694361600@lepoche.be
SUMMARY:Du 8 au 10 septembre - Théâtre : Pourvu qu'il soit heureux !
DESCRIPTION:Tout allait bien dans la vie de Camille jusqu’à ce que ses parents découvrent par hasard son homosexualité. \nComment Claudine et Maxime vont-ils réagir ? \nDes retournements de situation\, un sens du dialogue inimitable font de cette comédie la sensation de la rentrée au Poche Théâtre ! \nUne comédie de Laurent Ruquier. \nMise en scène : Annick Poulain \nDistribution : Lola Destercq Annick Poulain\, Fabrice Jack et Baptiste Carovis \nInfos & réservations : \n☎  0497/44.32.96 \nPrévente : 12€  /  Sur place : 15€
URL:https://lepoche.be/agenda/du-8-au-10-septembre-theatre-pourvu-quil-soit-heureux/
LOCATION:Le Poche Théâtre\, Rue du Fort\, 70\, Charleroi\, Hainaut\, 6000\, Belgique
CATEGORIES:Théâtre
ATTACH;FMTTYPE=image/jpeg:https://lepoche.be/wp-content/uploads/2023/08/POURVU_750.jpg
ORGANIZER;CN="%C3%80 la Wanna Gain Productions":MAILTO:fabrice@wgprod.be
END:VEVENT
END:VCALENDAR