BEGIN:VCALENDAR
VERSION:2.0
PRODID:-// - ECPv6.15.20//NONSGML v1.0//EN
CALSCALE:GREGORIAN
METHOD:PUBLISH
X-ORIGINAL-URL:https://lepoche.be
X-WR-CALDESC:Évènements pour 
REFRESH-INTERVAL;VALUE=DURATION:PT1H
X-Robots-Tag:noindex
X-PUBLISHED-TTL:PT1H
BEGIN:VTIMEZONE
TZID:Europe/Paris
BEGIN:DAYLIGHT
TZOFFSETFROM:+0100
TZOFFSETTO:+0200
TZNAME:CEST
DTSTART:20220327T010000
END:DAYLIGHT
BEGIN:STANDARD
TZOFFSETFROM:+0200
TZOFFSETTO:+0100
TZNAME:CET
DTSTART:20221030T010000
END:STANDARD
BEGIN:DAYLIGHT
TZOFFSETFROM:+0100
TZOFFSETTO:+0200
TZNAME:CEST
DTSTART:20230326T010000
END:DAYLIGHT
BEGIN:STANDARD
TZOFFSETFROM:+0200
TZOFFSETTO:+0100
TZNAME:CET
DTSTART:20231029T010000
END:STANDARD
BEGIN:DAYLIGHT
TZOFFSETFROM:+0100
TZOFFSETTO:+0200
TZNAME:CEST
DTSTART:20240331T010000
END:DAYLIGHT
BEGIN:STANDARD
TZOFFSETFROM:+0200
TZOFFSETTO:+0100
TZNAME:CET
DTSTART:20241027T010000
END:STANDARD
END:VTIMEZONE
BEGIN:VEVENT
DTSTART;TZID=Europe/Paris:20230928T200000
DTEND;TZID=Europe/Paris:20231001T150000
DTSTAMP:20260419T215815
CREATED:20230820T142439Z
LAST-MODIFIED:20240730T193524Z
UID:2404-1695931200-1696172400@lepoche.be
SUMMARY:Du 28 septembre au 1er octobre - Théâtre : La Porte à Côté
DESCRIPTION:Elle est psy. Lui vend des yaourts. \nIls sont voisins de palier et ils se détestent cordialement. \nComme des millions de célibataires perdus dans la ville\, ils explorent furtivement les sites de rencontre à la recherche de l’amour\, quelqu’un qui serait évidemment aux antipodes de ce personnage infernal qui vit la porte à côté. \nEt lorsqu’enfin\, par la magie des tests d’affinités\, ils trouvent chacun l’âme sœur\, ils ne résistent pas au malin plaisir de se l’annoncer. Histoire de s’affronter encore une fois… \nMise en scène : Annick Poulain \nDistribution : Sarah Hennecart et Christophe Jasinski \nInfos & réservations : \n✉  info@clairobscurtheatre.be \n☎  0494/40.34.34 \nTarif : 15€  /  Moins de 26 ans : 10€ \nhttps://www.clairobscurtheatre.be \nLe spectacle fait également partie de l’abonnement du Poche 2023-2024.
URL:https://lepoche.be/agenda/du-28-septembre-au-1er-octobre-theatre-la-porte-a-cote/
LOCATION:Le Poche Théâtre\, Rue du Fort\, 70\, Charleroi\, Hainaut\, 6000\, Belgique
CATEGORIES:Théâtre
ATTACH;FMTTYPE=image/png:https://lepoche.be/wp-content/uploads/2023/08/PORTE_750.png
ORGANIZER;CN="La compagnie du ClairObscur":MAILTO:info@clairobscurtheatre.be
END:VEVENT
END:VCALENDAR