BEGIN:VCALENDAR
VERSION:2.0
PRODID:-// - ECPv6.15.20//NONSGML v1.0//EN
CALSCALE:GREGORIAN
METHOD:PUBLISH
X-ORIGINAL-URL:https://lepoche.be
X-WR-CALDESC:Évènements pour 
REFRESH-INTERVAL;VALUE=DURATION:PT1H
X-Robots-Tag:noindex
X-PUBLISHED-TTL:PT1H
BEGIN:VTIMEZONE
TZID:Europe/Paris
BEGIN:DAYLIGHT
TZOFFSETFROM:+0100
TZOFFSETTO:+0200
TZNAME:CEST
DTSTART:20220327T010000
END:DAYLIGHT
BEGIN:STANDARD
TZOFFSETFROM:+0200
TZOFFSETTO:+0100
TZNAME:CET
DTSTART:20221030T010000
END:STANDARD
BEGIN:DAYLIGHT
TZOFFSETFROM:+0100
TZOFFSETTO:+0200
TZNAME:CEST
DTSTART:20230326T010000
END:DAYLIGHT
BEGIN:STANDARD
TZOFFSETFROM:+0200
TZOFFSETTO:+0100
TZNAME:CET
DTSTART:20231029T010000
END:STANDARD
BEGIN:DAYLIGHT
TZOFFSETFROM:+0100
TZOFFSETTO:+0200
TZNAME:CEST
DTSTART:20240331T010000
END:DAYLIGHT
BEGIN:STANDARD
TZOFFSETFROM:+0200
TZOFFSETTO:+0100
TZNAME:CET
DTSTART:20241027T010000
END:STANDARD
END:VTIMEZONE
BEGIN:VEVENT
DTSTART;TZID=Europe/Paris:20231006T200000
DTEND;TZID=Europe/Paris:20231007T200000
DTSTAMP:20260419T215647
CREATED:20230825T215949Z
LAST-MODIFIED:20240730T193458Z
UID:2499-1696622400-1696708800@lepoche.be
SUMMARY:Les 6 et 7 octobre - Théâtre : Repère
DESCRIPTION:C’est l’histoire d’un homme… d’un enfant…d’un fils manqué…\, qui tente de vivre avec un père absent depuis sa plus tendre enfance. En quête de sens\, de vérité\, prisonnier de ses pensées\, c’est seulement lorsqu’il devient père à son tour\, qu’il va prendre conscience du gigantesque cratère qui le sépare du siens depuis plus de trente ans. \nPerdu\, hypersensible et constamment en déséquilibre dans une société qu’il ne comprend pas toujours\, cet homme\, va devoir faire face à sa vie à travers le reflet de son enfant devenue le miroir révélateur de sa propre enfance. En laissant resurgir ses souvenirs du passé\, il va essayer de redéfinir son existence et de soliloquer autour d’une question existentielle et déterminante pour un garçon : « Comment fait on pour se tenir debout quand on est un homme et qu’on a pas eux les armes pour affronter le monde? » \nUn texte intime\, poignant et mélancomique\, au service d’un sujet rare et fondamental\, mais souvent tue par la pudeur des sentiments. Une pièce qui nous ramène à l’enfance\, à nos racines\, notre héritage familial\, mais surtout aux petites ou grandes blessures qui vous empêchent d’exister. \n« Tu peux être aimé par mille personnes\, par la terre entière même\, mais si un geste\, un mot\, te manque\, un mot que tu attends depuis longtemps\, un geste qui ne vient jamais\, t’as la sensation de ne jamais avoir été approuvé\, de ne jamais être à la hauteur…\, t’es bancal\, handicapé de la vie. Tu avances mais… sans repère… » \nPar la Cie.M.Théâtre. \nDe et avec : Julien Mutombo. \nMise en scène : Julien Mutombo. \nAide à la mise en scène: Dominique Lahaut – Amélie Melotte et Pierrick De Luca. \nCréation lumière/ Scénographie : Jean-François Georis. \nAide à l’écriture/Dramaturgie : Anne Sylvain. \n \nBuzz Radio · Interview : ‘Repère’ de Julien Mutombo (04/10/23)\nAchetez vos billets en ligne :\nVente de billets en ligne
URL:https://lepoche.be/agenda/les-6-et-7-octobre-theatre-repere/
LOCATION:Le Poche Théâtre\, Rue du Fort\, 70\, Charleroi\, Hainaut\, 6000\, Belgique
CATEGORIES:Théâtre
ATTACH;FMTTYPE=image/png:https://lepoche.be/wp-content/uploads/2023/08/REPERE_750.png
ORGANIZER;CN="Le Poche":MAILTO:info@lepoche.be
END:VEVENT
END:VCALENDAR