BEGIN:VCALENDAR
VERSION:2.0
PRODID:-// - ECPv6.15.20//NONSGML v1.0//EN
CALSCALE:GREGORIAN
METHOD:PUBLISH
X-ORIGINAL-URL:https://lepoche.be
X-WR-CALDESC:Évènements pour 
REFRESH-INTERVAL;VALUE=DURATION:PT1H
X-Robots-Tag:noindex
X-PUBLISHED-TTL:PT1H
BEGIN:VTIMEZONE
TZID:Europe/Paris
BEGIN:DAYLIGHT
TZOFFSETFROM:+0100
TZOFFSETTO:+0200
TZNAME:CEST
DTSTART:20220327T010000
END:DAYLIGHT
BEGIN:STANDARD
TZOFFSETFROM:+0200
TZOFFSETTO:+0100
TZNAME:CET
DTSTART:20221030T010000
END:STANDARD
BEGIN:DAYLIGHT
TZOFFSETFROM:+0100
TZOFFSETTO:+0200
TZNAME:CEST
DTSTART:20230326T010000
END:DAYLIGHT
BEGIN:STANDARD
TZOFFSETFROM:+0200
TZOFFSETTO:+0100
TZNAME:CET
DTSTART:20231029T010000
END:STANDARD
BEGIN:DAYLIGHT
TZOFFSETFROM:+0100
TZOFFSETTO:+0200
TZNAME:CEST
DTSTART:20240331T010000
END:DAYLIGHT
BEGIN:STANDARD
TZOFFSETFROM:+0200
TZOFFSETTO:+0100
TZNAME:CET
DTSTART:20241027T010000
END:STANDARD
END:VTIMEZONE
BEGIN:VEVENT
DTSTART;TZID=Europe/Paris:20231013T200000
DTEND;TZID=Europe/Paris:20231013T200000
DTSTAMP:20260419T215719
CREATED:20230709T221446Z
LAST-MODIFIED:20240730T193429Z
UID:2353-1697227200-1697227200@lepoche.be
SUMMARY:Vendredi 13 octobre - Théâtre : My Mother
DESCRIPTION:Les relations mère-fille peuvent être magnifiquement compliquées. \nCar si le lien qui les unit est unique\, il est aussi et surtout complexe. \nCette relation\, l’auteure a souhaité la décomplexer en proposant une pièce théâtrale aussi drôle qu’émouvante. \nLa comédienne nous explique : “On parle ici d’une mère particulière parce qu’elle est encombrante\, étouffante\, castratrice voire destructrice même. C’est un personnage très théâtral\, ce qui me permet de l’imiter et d’en faire rire\, mais aussi d’être dans l’émotion car elle peut être touchante et se révéler d’une fragile flamboyance.” \nUn spectacle poignant écrit et joué par Isabelle Antoine dans une mise en scène de Claude Rion. \nAchetez vos billets en ligne :\nVente de billets en ligne
URL:https://lepoche.be/agenda/vendredi-13-octobre-theatre-my-mother/
LOCATION:Le Poche Théâtre\, Rue du Fort\, 70\, Charleroi\, Hainaut\, 6000\, Belgique
CATEGORIES:Théâtre
ATTACH;FMTTYPE=image/jpeg:https://lepoche.be/wp-content/uploads/2023/07/my-mother-3_750.jpg
ORGANIZER;CN="Le Poche":MAILTO:info@lepoche.be
END:VEVENT
END:VCALENDAR