BEGIN:VCALENDAR
VERSION:2.0
PRODID:-// - ECPv6.15.20//NONSGML v1.0//EN
CALSCALE:GREGORIAN
METHOD:PUBLISH
X-ORIGINAL-URL:https://lepoche.be
X-WR-CALDESC:Évènements pour 
REFRESH-INTERVAL;VALUE=DURATION:PT1H
X-Robots-Tag:noindex
X-PUBLISHED-TTL:PT1H
BEGIN:VTIMEZONE
TZID:Europe/Paris
BEGIN:DAYLIGHT
TZOFFSETFROM:+0100
TZOFFSETTO:+0200
TZNAME:CEST
DTSTART:20220327T010000
END:DAYLIGHT
BEGIN:STANDARD
TZOFFSETFROM:+0200
TZOFFSETTO:+0100
TZNAME:CET
DTSTART:20221030T010000
END:STANDARD
BEGIN:DAYLIGHT
TZOFFSETFROM:+0100
TZOFFSETTO:+0200
TZNAME:CEST
DTSTART:20230326T010000
END:DAYLIGHT
BEGIN:STANDARD
TZOFFSETFROM:+0200
TZOFFSETTO:+0100
TZNAME:CET
DTSTART:20231029T010000
END:STANDARD
BEGIN:DAYLIGHT
TZOFFSETFROM:+0100
TZOFFSETTO:+0200
TZNAME:CEST
DTSTART:20240331T010000
END:DAYLIGHT
BEGIN:STANDARD
TZOFFSETFROM:+0200
TZOFFSETTO:+0100
TZNAME:CET
DTSTART:20241027T010000
END:STANDARD
END:VTIMEZONE
BEGIN:VEVENT
DTSTART;TZID=Europe/Paris:20231027T203000
DTEND;TZID=Europe/Paris:20231104T203000
DTSTAMP:20260419T215541
CREATED:20230823T201706Z
LAST-MODIFIED:20240730T193304Z
UID:2463-1698438600-1699129800@lepoche.be
SUMMARY:Les 27\, 28\, 29 octobre et les 2\, 3 et 4 novembre - Théâtre : La photo de papa
DESCRIPTION:Août 1936\, premiers congés payés. \nDans les Landes\, à deux pas du Pays basque\, une famille française vient passer ses dernières vacances dans la maison d’enfance qui va être vendue. \nAu même moment\, un peu plus au sud\, à une poignée de kilomètres\, la guerre civile déchire l’Espagne. \nLa nuit du 15 août\, après un dîner arrosé\, la famille accueille pour quelques nuits un jeune espagnol émigré qui rejoint les forces républicaines de son pays. \nDans l’atmosphère de cette région océanique\, dans une période de pleine lune et de grandes marées\, cette rencontre imprévue fait voler en éclats les certitudes et les égoïsmes des uns et des autres. \nAvec une belle dose d’humour et de tendresse\, l’auteur raconte le choc de la petite histoire avec la grande… \nDe Stephan WOJTOWICZ\, dans une mise en scène de Christine MICHEL. \nDates: 27\, 28\, 29 octobre et 2\, 3\, 4 novembre 2023\nHoraire: J: 19h30 / V-S: 20h30 / D: 15h00 \n \nBuzz Radio · Interview : ‘La photo de papa’ (09/10/23)\nInfos & réservations : \n✉  info@comedia-77.be \n☎  0491/280.220 \nTarifs: 14€/12€ (prévente) / -26ans et +65ans: 12€/10€ (prévente) / -12ans: gratuit\nCompte: BE20 6116 4254 6056 \nLe tarif pré-vente est d’application uniquement lorsque l’argent de la réservation est versé sur le compte avant la représentation.\nEn cas de salle complète\, 5 minutes avant le début du spectacle\, nous nous réservons le droit de redistribuer votre réservation si vous ne vous êtes pas encore présenté à la billetterie.
URL:https://lepoche.be/agenda/les-27-28-29-octobre-et-les-2-3-et-4-novembre-theatre-la-photo-de-papa/
LOCATION:Le Poche Théâtre\, Rue du Fort\, 70\, Charleroi\, Hainaut\, 6000\, Belgique
CATEGORIES:Théâtre
ATTACH;FMTTYPE=image/jpeg:https://lepoche.be/wp-content/uploads/2023/08/la-photo-de-papa_750.jpg
ORGANIZER;CN="Com%C3%A9dia 77":MAILTO:info@comedia-77.be
END:VEVENT
END:VCALENDAR