BEGIN:VCALENDAR
VERSION:2.0
PRODID:-// - ECPv6.15.20//NONSGML v1.0//EN
CALSCALE:GREGORIAN
METHOD:PUBLISH
X-ORIGINAL-URL:https://lepoche.be
X-WR-CALDESC:Évènements pour 
REFRESH-INTERVAL;VALUE=DURATION:PT1H
X-Robots-Tag:noindex
X-PUBLISHED-TTL:PT1H
BEGIN:VTIMEZONE
TZID:Europe/Paris
BEGIN:DAYLIGHT
TZOFFSETFROM:+0100
TZOFFSETTO:+0200
TZNAME:CEST
DTSTART:20220327T010000
END:DAYLIGHT
BEGIN:STANDARD
TZOFFSETFROM:+0200
TZOFFSETTO:+0100
TZNAME:CET
DTSTART:20221030T010000
END:STANDARD
BEGIN:DAYLIGHT
TZOFFSETFROM:+0100
TZOFFSETTO:+0200
TZNAME:CEST
DTSTART:20230326T010000
END:DAYLIGHT
BEGIN:STANDARD
TZOFFSETFROM:+0200
TZOFFSETTO:+0100
TZNAME:CET
DTSTART:20231029T010000
END:STANDARD
BEGIN:DAYLIGHT
TZOFFSETFROM:+0100
TZOFFSETTO:+0200
TZNAME:CEST
DTSTART:20240331T010000
END:DAYLIGHT
BEGIN:STANDARD
TZOFFSETFROM:+0200
TZOFFSETTO:+0100
TZNAME:CET
DTSTART:20241027T010000
END:STANDARD
END:VTIMEZONE
BEGIN:VEVENT
DTSTART;TZID=Europe/Paris:20231109T200000
DTEND;TZID=Europe/Paris:20231111T200000
DTSTAMP:20260419T201717
CREATED:20230920T200917Z
LAST-MODIFIED:20240730T193226Z
UID:2582-1699560000-1699732800@lepoche.be
SUMMARY:Du 9 au 11 novembre - Théâtre : Art
DESCRIPTION:« Mon ami Serge a acheté un tableau […] un tableau blanc avec des liserés blancs. » \nMédecin dermatologue\, Serge aime l’art moderne et Sénèque\, qu’il trouve « modernissime ». \nIngénieur dans l’aéronautique\, Marc a des goûts plus traditionnels et ne comprend pas que son ami Serge ait pu acheter « cette merde deux cent mille francs ». \nQuant à Yvan\, représentant dans une papeterie\, il aimerait ne contrarier aucun de ses deux précieux amis. Mais les disputes esthétiques autour du « tableau blanc » dégénèrent dans un crescendo hilarant et féroce\, qui ne laissera personne indemne… \nEcrite en 1994 et traduite dans une quarantaine de langues\, cette comédie cruelle de Yasmina Reza a été jouée et primée dans le monde entier. \nAu-delà de son regard acéré sur les raisons d’accorder ou non une certaine valeur à une œuvre d’art selon les critères de chacun et de la société\, ART est surtout une œuvre majeure qui analyse les liens d’amitié. C’est une comédie grinçante qui dissèque les relations entre Yvan (Christophe Jasinski)\, Serge (Guy Robert) et Marc (Judicaël Vlieghe)\, amis depuis quinze ans. \nVont-ils résister à la découverte de leurs profondes différences de valeurs ? \nART est la pièce contemporaine la plus jouée au monde\, traduite en plus de trente langues\, primée et jouée dans le monde entier. \nMise en scène : Annick Poulain. \nDistribution : Christophe Jasinski\, Guy Robert et Judicaël Vlieghe. \nInfos & réservations : \n✉  info@clairobscurtheatre.be \n☎  0494/40.34.34 \nTarif: 15€  /  Moins de 26 ans : 10€ \nhttps://www.clairobscurtheatre.be/billetterie
URL:https://lepoche.be/agenda/du-9-au-11-novembre-theatre-art/
LOCATION:Le Poche Théâtre\, Rue du Fort\, 70\, Charleroi\, Hainaut\, 6000\, Belgique
CATEGORIES:Théâtre
ATTACH;FMTTYPE=image/png:https://lepoche.be/wp-content/uploads/2023/09/ART2_750.png
ORGANIZER;CN="La compagnie du ClairObscur":MAILTO:info@clairobscurtheatre.be
END:VEVENT
END:VCALENDAR