BEGIN:VCALENDAR
VERSION:2.0
PRODID:-// - ECPv6.15.20//NONSGML v1.0//EN
CALSCALE:GREGORIAN
METHOD:PUBLISH
X-ORIGINAL-URL:https://lepoche.be
X-WR-CALDESC:Évènements pour 
REFRESH-INTERVAL;VALUE=DURATION:PT1H
X-Robots-Tag:noindex
X-PUBLISHED-TTL:PT1H
BEGIN:VTIMEZONE
TZID:Europe/Paris
BEGIN:DAYLIGHT
TZOFFSETFROM:+0100
TZOFFSETTO:+0200
TZNAME:CEST
DTSTART:20220327T010000
END:DAYLIGHT
BEGIN:STANDARD
TZOFFSETFROM:+0200
TZOFFSETTO:+0100
TZNAME:CET
DTSTART:20221030T010000
END:STANDARD
BEGIN:DAYLIGHT
TZOFFSETFROM:+0100
TZOFFSETTO:+0200
TZNAME:CEST
DTSTART:20230326T010000
END:DAYLIGHT
BEGIN:STANDARD
TZOFFSETFROM:+0200
TZOFFSETTO:+0100
TZNAME:CET
DTSTART:20231029T010000
END:STANDARD
BEGIN:DAYLIGHT
TZOFFSETFROM:+0100
TZOFFSETTO:+0200
TZNAME:CEST
DTSTART:20240331T010000
END:DAYLIGHT
BEGIN:STANDARD
TZOFFSETFROM:+0200
TZOFFSETTO:+0100
TZNAME:CET
DTSTART:20241027T010000
END:STANDARD
END:VTIMEZONE
BEGIN:VEVENT
DTSTART;TZID=Europe/Paris:20231117T200000
DTEND;TZID=Europe/Paris:20231125T200000
DTSTAMP:20260419T201613
CREATED:20230823T150612Z
LAST-MODIFIED:20240730T193202Z
UID:2421-1700251200-1700942400@lepoche.be
SUMMARY:Les 17\, 18\, 19\, 22\, 23\, 24 et 25 novembre - Théâtre : Jacques a dit
DESCRIPTION:Le Chiche présente : Jacques a dit : comédie de Marc FAYET \nSix amis de longue date sont contraints de se réunir alors qu’ils s’étaient tous plus ou moins perdus de vue. \nEn effet\, Jacques\, un ancien de la bande\, leur a fait parvenir de Bombay une cassette vidéo où\, paraît-il\, sont divulguées de bien mystérieuses vérités concernant nos protagonistes. \nCommence alors le jeu de la vérité et du mensonge pour nos compères\, bien décidés à garder leurs secrets. \nDistribution : \n\nLili : Aurélie Hendrikx\nMarie : Stéphanie Bauduin\nVictoire : Gilda Straszak\nJeanJean : Daniel Burkel\nRomain : Didier Lambot\nBertrand : Olivier Clément\n\nDates : 17\, 18\, 19 et 22\, 23\, 24\, 25 novembre 2023 \nHoraire : Me-Je-Je-Ve-Sa: 20h / Di: 15h00 \nInfos & réservations : \n✉  theatreduchiche@gmail.com \n☎  0476/876 096 \nTarifs : 16€-13€ (prévente)* / Etudiants\, groupes (+ de 10 personnes) et + 65 ans : 11 € / – 12 ans : Gratuit \nCompte: BE59 1030 7782 8626 \nLe spectacle fait également partie de l’abonnement du Poche 2023-2024. \n* Attention : réserver sa place n’accorde pas automatiquement le tarif prévente.
URL:https://lepoche.be/agenda/les-17-18-19-22-23-24-et-25-novembre-theatre-jacques-a-dit/
LOCATION:Le Poche Théâtre\, Rue du Fort\, 70\, Charleroi\, Hainaut\, 6000\, Belgique
CATEGORIES:Théâtre
ATTACH;FMTTYPE=image/png:https://lepoche.be/wp-content/uploads/2023/08/JAD_750.png
ORGANIZER;CN="Le Chiche Th%C3%A9%C3%A2tre":MAILTO:theatreduchiche@gmail.com
END:VEVENT
END:VCALENDAR