BEGIN:VCALENDAR
VERSION:2.0
PRODID:-// - ECPv6.15.20//NONSGML v1.0//EN
CALSCALE:GREGORIAN
METHOD:PUBLISH
X-ORIGINAL-URL:https://lepoche.be
X-WR-CALDESC:Évènements pour 
REFRESH-INTERVAL;VALUE=DURATION:PT1H
X-Robots-Tag:noindex
X-PUBLISHED-TTL:PT1H
BEGIN:VTIMEZONE
TZID:Europe/Paris
BEGIN:DAYLIGHT
TZOFFSETFROM:+0100
TZOFFSETTO:+0200
TZNAME:CEST
DTSTART:20230326T010000
END:DAYLIGHT
BEGIN:STANDARD
TZOFFSETFROM:+0200
TZOFFSETTO:+0100
TZNAME:CET
DTSTART:20231029T010000
END:STANDARD
BEGIN:DAYLIGHT
TZOFFSETFROM:+0100
TZOFFSETTO:+0200
TZNAME:CEST
DTSTART:20240331T010000
END:DAYLIGHT
BEGIN:STANDARD
TZOFFSETFROM:+0200
TZOFFSETTO:+0100
TZNAME:CET
DTSTART:20241027T010000
END:STANDARD
BEGIN:DAYLIGHT
TZOFFSETFROM:+0100
TZOFFSETTO:+0200
TZNAME:CEST
DTSTART:20250330T010000
END:DAYLIGHT
BEGIN:STANDARD
TZOFFSETFROM:+0200
TZOFFSETTO:+0100
TZNAME:CET
DTSTART:20251026T010000
END:STANDARD
END:VTIMEZONE
BEGIN:VEVENT
DTSTART;TZID=Europe/Paris:20241217T200000
DTEND;TZID=Europe/Paris:20241230T200000
DTSTAMP:20260419T194419
CREATED:20240708T141648Z
LAST-MODIFIED:20251108T103729Z
UID:2969-1734465600-1735588800@lepoche.be
SUMMARY:Les 17\, 18\, 19\, 20\, 21\, 22\, 27\, 28\, 29 et 30 décembre - Théâtre : 10 jours à tuer
DESCRIPTION:À la veille de Noël\, à la résidence Le France\, chaque étage héberge des locataires particuliers… \nIl y aurait bien Alain et Michèle Blanchard\, qui forment un couple tout à fait classique & ennuyeux. \nIls attendent avec grande impatience l’assurance pension d’Alain. \n10 jours avant de percevoir le grand pactole\, Alain décède inopinément entraînant Michèle dans un plan machiavélique pour garder Alain en vie et surtout empocher sa retraite bien méritée. \nLes voisins du haut et du bas\, tout autant loufoques ne comprendront rien\, à peine… \nUne nouvelle création Clandestine… Pièce à 11 personnages malgré qu’il n’y a que 7 comédiens\,… Ne cherchez pas à comprendre\, vous risqueriez d’entrer dans la combine. \nDe Dany Marbaix. \nAvec Quentin Style\, Didier Style\, Dominique Samain\, Jean-Michel Van de Cauter\, Nicolas Jeuniaux\, Jeanne Vilain XIIII\, Chantal Moiset & … \nTarifs: \nPrévente: 13€ / Sur place: 16€ \nLe spectacle fait également partie de l’abonnement du Poche 2024-2025. \nAchetez vos billets en ligne :\nVente de billets en ligne
URL:https://lepoche.be/agenda/les-17-18-19-20-21-22-27-28-29-et-30-decembre-theatre-10-jours-a-tuer/
LOCATION:Le Poche Théâtre\, Rue du Fort\, 70\, Charleroi\, Hainaut\, 6000\, Belgique
CATEGORIES:Théâtre
ATTACH;FMTTYPE=image/png:https://lepoche.be/wp-content/uploads/2024/07/10-jours_750.png
ORGANIZER;CN="Le Poche":MAILTO:info@lepoche.be
END:VEVENT
END:VCALENDAR