BEGIN:VCALENDAR
VERSION:2.0
PRODID:-// - ECPv6.15.20//NONSGML v1.0//EN
CALSCALE:GREGORIAN
METHOD:PUBLISH
X-ORIGINAL-URL:https://lepoche.be
X-WR-CALDESC:Évènements pour 
REFRESH-INTERVAL;VALUE=DURATION:PT1H
X-Robots-Tag:noindex
X-PUBLISHED-TTL:PT1H
BEGIN:VTIMEZONE
TZID:Europe/Paris
BEGIN:DAYLIGHT
TZOFFSETFROM:+0100
TZOFFSETTO:+0200
TZNAME:CEST
DTSTART:20240331T010000
END:DAYLIGHT
BEGIN:STANDARD
TZOFFSETFROM:+0200
TZOFFSETTO:+0100
TZNAME:CET
DTSTART:20241027T010000
END:STANDARD
BEGIN:DAYLIGHT
TZOFFSETFROM:+0100
TZOFFSETTO:+0200
TZNAME:CEST
DTSTART:20250330T010000
END:DAYLIGHT
BEGIN:STANDARD
TZOFFSETFROM:+0200
TZOFFSETTO:+0100
TZNAME:CET
DTSTART:20251026T010000
END:STANDARD
BEGIN:DAYLIGHT
TZOFFSETFROM:+0100
TZOFFSETTO:+0200
TZNAME:CEST
DTSTART:20260329T010000
END:DAYLIGHT
BEGIN:STANDARD
TZOFFSETFROM:+0200
TZOFFSETTO:+0100
TZNAME:CET
DTSTART:20261025T010000
END:STANDARD
END:VTIMEZONE
BEGIN:VEVENT
DTSTART;TZID=Europe/Paris:20250131T200000
DTEND;TZID=Europe/Paris:20250202T150000
DTSTAMP:20260425T145622
CREATED:20240906T145749Z
LAST-MODIFIED:20250126T125239Z
UID:3180-1738353600-1738508400@lepoche.be
SUMMARY:Du 31 janvier au 2 février - Théâtre : La chouette albinos
DESCRIPTION:C’est une histoire d’Amour ( pas ) comme les autres\, la rencontre improbable entre un homme et une femme qui se cherchent\, s’entrechoquent avec maladresse et tendresse mais aussi humour et légèreté. \nLili\, prostituée désabusée et Archi\, marginal blessé par l’amour nous amènent entre réalité et imaginaire\, espoir et fatalité à nous questionner sur les relations hommes-femmes\, l’amour\, le sens de nos vies\, la solitude\, la société\, l’humain en chacun de nous\, … \nAvec : Anne-Gaëlle Hubert & Daniel Burkel \nMise en scène : Emmanuel Guillaume \nTarif: \nPrévente: 12€ / Sur place: 15€ \nAchetez vos billets en ligne :\nVente de billets en ligne
URL:https://lepoche.be/agenda/du-31-janvier-au-2-fevrier-theatre-la-chouette-albinos/
LOCATION:Le Poche Théâtre\, Rue du Fort\, 70\, Charleroi\, Hainaut\, 6000\, Belgique
CATEGORIES:Théâtre
ATTACH;FMTTYPE=image/png:https://lepoche.be/wp-content/uploads/2024/09/CHOUETTE-ALBINOS2_750.png
ORGANIZER;CN="Le Poche":MAILTO:info@lepoche.be
END:VEVENT
END:VCALENDAR