BEGIN:VCALENDAR
VERSION:2.0
PRODID:-// - ECPv6.15.20//NONSGML v1.0//EN
CALSCALE:GREGORIAN
METHOD:PUBLISH
X-ORIGINAL-URL:https://lepoche.be
X-WR-CALDESC:Évènements pour 
REFRESH-INTERVAL;VALUE=DURATION:PT1H
X-Robots-Tag:noindex
X-PUBLISHED-TTL:PT1H
BEGIN:VTIMEZONE
TZID:Europe/Paris
BEGIN:DAYLIGHT
TZOFFSETFROM:+0100
TZOFFSETTO:+0200
TZNAME:CEST
DTSTART:20240331T010000
END:DAYLIGHT
BEGIN:STANDARD
TZOFFSETFROM:+0200
TZOFFSETTO:+0100
TZNAME:CET
DTSTART:20241027T010000
END:STANDARD
BEGIN:DAYLIGHT
TZOFFSETFROM:+0100
TZOFFSETTO:+0200
TZNAME:CEST
DTSTART:20250330T010000
END:DAYLIGHT
BEGIN:STANDARD
TZOFFSETFROM:+0200
TZOFFSETTO:+0100
TZNAME:CET
DTSTART:20251026T010000
END:STANDARD
BEGIN:DAYLIGHT
TZOFFSETFROM:+0100
TZOFFSETTO:+0200
TZNAME:CEST
DTSTART:20260329T010000
END:DAYLIGHT
BEGIN:STANDARD
TZOFFSETFROM:+0200
TZOFFSETTO:+0100
TZNAME:CET
DTSTART:20261025T010000
END:STANDARD
END:VTIMEZONE
BEGIN:VEVENT
DTSTART;TZID=Europe/Paris:20250207T200000
DTEND;TZID=Europe/Paris:20250208T200000
DTSTAMP:20260425T161846
CREATED:20250116T153415Z
LAST-MODIFIED:20250122T194043Z
UID:3411-1738958400-1739044800@lepoche.be
SUMMARY:Les 7 et 8 février - Théâtre : BREL\, à corps et à cris
DESCRIPTION:Plongez dans l’univers vibrant et intemporel de Jacques Brel comme vous ne l’avez jamais vu. \nDans ce spectacle unique\, vous êtes le maître du programme : c’est vous\, public\, qui choisissez les textes qui prendront vie sur scène. \nVotez parmi 25 textes de Jacques Brel pour ceux que vous préférez. \nLes 15 textes qui remportent le plus de voix seront joués pour vous. \nSeul en scène\, Olivier Clément s’efface pour laisser place à l’extraordinaire galerie de personnages créés par Brel. \nLe fougueux Don Quichotte\, la tendre Mathilde\, les vieux amants\, Jef et tant d’autres prendront chair et âme sous vos yeux. \nChaque texte devient une scène à part entière\, une histoire racontée\, jouée\, et ressentie\, où l’émotion brute côtoie l’humour et l’intensité dramatique. \nChaque personnage révèle une facette de cette humanité que Brel savait si bien chanter. \nUn hommage vivant et interactif\, où la poésie de Brel rencontre l’art du théâtre. \nParce que ses mots\, ses mélodies\, et ses personnages nous parlent encore\, dans toutes leurs contradictions et leur humanité. \nLaissez-vous emporter par des scènes où l’humour côtoie la mélancolie\, où les mots frappent et caressent\, où la musique de Brel résonne autrement. \nPlongez dans un univers intense et authentique\, où les spectateurs ne sont pas seulement des témoins\, mais des complices d’une soirée qui ne ressemblera jamais à une autre. \nQue vous soyez fan de longue date ou curieux de découvrir autrement l’œuvre du Grand Jacques\, ce spectacle est une invitation à redécouvrir son génie… et à vivre ses textes autrement : à corps et à cris. \nRéservez vos places et préparez-vous à voter : la scène vous attend. \n \nBuzz Radio · Interview : BREL\, à corps et à cris (03/01/25)\n \nInfos & réservations : \n✉  brelconte@gmail.com \n☎  0498/725 456 \nTarifs : une soirée 16 €\, deux soirées 25 € \nCompte: BE56 1030 2917 9688
URL:https://lepoche.be/agenda/les-7-et-8-fevrier-theatre-brel-a-corps-et-a-cris/
LOCATION:Le Poche Théâtre\, Rue du Fort\, 70\, Charleroi\, Hainaut\, 6000\, Belgique
CATEGORIES:Théâtre
ATTACH;FMTTYPE=image/jpeg:https://lepoche.be/wp-content/uploads/2025/01/brel-2_750.jpg
ORGANIZER;CN="Olivier Cl%C3%A9ment":MAILTO:brelconte@gmail.com
END:VEVENT
END:VCALENDAR